BEGIN:VCALENDAR
VERSION:2.0
PRODID:-//ddaysoftware.com//NONSGML DDay.iCal 1.0//EN
BEGIN:VEVENT
DTEND:20260826T180000Z
DTSTAMP:20260422T102752Z
DTSTART:20260826T140000Z
SEQUENCE:0
SUMMARY:Collaboration and Support: Addressing the Intersection of BIT\, Con
 duct\, and Disability Support Workshop
UID:523039b2-6e33-4b7a-aa4f-48aabc575771
X-ALT-DESC;FMTTYPE=text/html:<h1 style="text-align: center\;">\nCollaborati
 on and Support: Addressing the Intersection of BIT\, Conduct\, and Disabil
 ity Support Workshop\n</h1>\n<p>\n<strong>August 26  | 10:00am - 2:00pm ET
 </strong>\n</p>\n<p>\nRegistration will close on August 26\, 2026 at 11:00
 am\n</p>\n<p>\nFor NABITA's Event Policies\, click <a href="https://www.na
 bita.org/about/event-policies/">here</a>.\n</p>
END:VEVENT
END:VCALENDAR
