BEGIN:VCALENDAR
VERSION:2.0
PRODID:-//ddaysoftware.com//NONSGML DDay.iCal 1.0//EN
BEGIN:VEVENT
DTEND:20250610T200000Z
DTSTAMP:20260421T110721Z
DTSTART:20250610T190000Z
SEQUENCE:0
SUMMARY:The FROS: Why It Matters\, How to Participate & Why It’s Simpler Th
 an Ever!- 6/10/2025
UID:12b7006a-f538-46c3-8519-3b93b5a513a6
X-ALT-DESC;FMTTYPE=text/html:<p>Join NAPEO Tuesday\, June 10 at 3:00 pm ET 
 for a webinar about the annual Financial Ratios and Operating Statistics s
 urvey\, which is now live and open for participation.&nbsp\;This survey of
 fers an in-depth look at the key metrics behind the operations and financi
 al health of PEOs.<br />\n<br />\nAlex Campbell (Staff Management\, Inc.)\
 , Eli Polanco (Nivelo) and Jake Hackathorne (Industry Insights\, inc.) wil
 l discuss recent updates along with tips and tricks to make it easier for 
 PEOs to complete. Since 1993\, NAPEO&rsquo\;s FROS has been the PEO indust
 ry&rsquo\;s only comprehensive and detailed look at the metrics behind PEO
  operations and financials\, so you don&rsquo\;t want to miss out on learn
 ing how to be a part of it! </p>\n<p id="radePasteHelper" style="position:
  absolute\; border: 0px solid red\; top: 0px\; overflow: hidden\;"><span s
 tyle="font-size: 11px\; white-space-collapse: preserve\; color: #0d0d0d\;"
 ><br />\n</span></p>
END:VEVENT
END:VCALENDAR
