BEGIN:VCALENDAR
VERSION:2.0
PRODID:-//ddaysoftware.com//NONSGML DDay.iCal 1.0//EN
BEGIN:VEVENT
DTEND:20250915T170000Z
DTSTAMP:20260419T122950Z
DTSTART:20250915T160000Z
SEQUENCE:0
SUMMARY:Marvelous Monday: Simplifying Labor Law Poster Compliance for PEOs\
 , Presented by PosterElite- 9/15/2025
UID:1d7b6f6e-9ccc-46d3-85ef-36e065e316cc
X-ALT-DESC;FMTTYPE=text/html:<p style="margin-bottom: 0in\;"><strong><span 
 style="font-size: 9pt\; font-family: &quot\;ms sans serif&quot\;\;"></span
 ></strong></p>\n<p>Join us for NAPEO's Marvelous Monday webinar <span styl
 e="white-space-collapse: preserve-breaks\;">presented by PosterElite&nbsp\
 ;</span>at 12 PM ET on September 15th.</p>\n<p>Ensuring poster compliance 
 for clients across multiple states and remote locations is more challengin
 g than ever. But it doesn&rsquo\;t have to be. PosterElite\, trusted by ov
 er 800 HR\, payroll\, and PEO providers\, delivers a modern approach to la
 bor law poster compliance that eliminates risk and simplifies operations.\
 n</p>\nIn this exclusive webinar\, discover how PEOs are:\n<ul>\n    <li><
 span style="white-space-collapse: preserve-breaks\;">Automating labor law 
 poster fulfillment and updates</span></li>\n    <li>Ensuring full complian
 ce for on-site and remote employees in all 50 states</li>\n    <li>Enhanci
 ng their brand visibility with turnkey\, white-labeled programs</li>\n    
 <li>Using compliance as a lever for growth\, retention\, and differentiati
 on</li>\n</ul>\n<p>PosterElite&rsquo\;s platform was purpose-built to serv
 e PEOs and their clients&mdash\;removing the burden of manual compliance t
 racking\, minimizing risk\, and enabling new recurring revenue streams.<br
  />\n🎯 Don&rsquo\;t miss this opportunity to simplify compliance and elev
 ate your offering.</p>\n<p>&nbsp\;*PosterElite will provide a $25 Amazon G
 ift Card for the first 100 PEO members that join the day of the webinar!</
 p>\n<p><span style="font-size: 10pt\; line-height: 115%\; font-family: &qu
 ot\;ms sans serif&quot\;\;"></span></p>
END:VEVENT
END:VCALENDAR
