BEGIN:VCALENDAR
VERSION:2.0
PRODID:-//ddaysoftware.com//NONSGML DDay.iCal 1.0//EN
BEGIN:VEVENT
DTEND:20260421T190000Z
DTSTAMP:20260421T110939Z
DTSTART:20260421T180000Z
SEQUENCE:0
SUMMARY:HR Community Conversation: Mandatory State Leave Requirements
UID:5b06b5f0-3e3a-40c7-b6b1-7532efef6743
X-ALT-DESC;FMTTYPE=text/html:<p><span style="font-family: arial\; font-size
 : 16px\;">Join your peers in the HR Community on Tuesday\, April 21st\, fo
 r a discussion focused on Mandatory State Leave Requirements.&nbsp\;\n</sp
 an></p>\n<p><span style="font-family: arial\; font-size: 16px\;">These ses
 sions are interactive\, so come prepared to be on camera and bring any que
 stions or discussion points you have on the topic.\n</span></p>\n<p><span 
 style="font-family: arial\; font-size: 16px\;">If you have any questions\,
  please contact <a href="mailto:meetings@napeo.org">meetings@napeo.org</a>
 </span></p>\n<p><span style="font-family: arial\; font-size: 16px\;">We lo
 ok forward to seeing you there!\n</span></p>\n<span style="font-size: 16px
 \;"></span>
END:VEVENT
END:VCALENDAR
