BEGIN:VCALENDAR
VERSION:2.0
PRODID:-//ddaysoftware.com//NONSGML DDay.iCal 1.0//EN
BEGIN:VEVENT
DTEND:20210228T220000Z
DTSTAMP:20260423T190313Z
DTSTART:20210228T130000Z
SEQUENCE:0
SUMMARY:Recorded - Virtual Training - 2021 NFPA 921 - Chapters 4 & 5 - Open
  November 1\, 2020 through February 28\, 2021
UID:a285ccd2-e783-4abc-a7cd-24fb9f7a9823
X-ALT-DESC;FMTTYPE=text/html:<div>\n<div>\n<div><strong></strong></div>\n</
 div>\n<div>\n<div><strong>2021 NFPA 921 Chapters 4 &amp\; 5 - Basic Method
 ology &amp\; Fire Science</strong></div>\n<div>Instructor: Randy Watson</d
 iv>\n<div>On-Demand Recording of Class - 2 Hours</div>\n<div><strong><span
  style="color: #00b050\;"></span></strong></div>\n<p><strong><span style="
 font-size: 13px\; color: #00b050\;">Link active until February 28\, 2021</
 span></strong></p>\n<div>This two hour session will provide an overview of
  changes to the chapters on methodology and fire science for the 2021 edit
 ion of NFPA 921. These two chapters are foundational to the entire documen
 t.&nbsp\; Without a clear understanding of the scientific method and how t
 o apply it to and investigation\, the investigator is open to serious chal
 lenge in court.&nbsp\; Fire science is the foundation of fire effects\, fi
 re patterns and all other technical aspects of the investigation.&nbsp\; W
 ithout an understanding of the science underpinning the investigation and 
 analysis\, the investigation may be flawed at it base.</div>\n<div><br />\
 n</div>\n<div><strong><em>Learning objectives:</em></strong></div>\n<div>T
 he student will identify and understand the changes to the chapter on meth
 odology and how to implement the scientific method in a practical way.</di
 v>\n<div>The student will identify and understand the changes to the chapt
 er on fire science and how these changes may impact the investigation.</di
 v>\n<div><br />\n</div>\n<br />\n</div>\n<div><strong>Fees:</strong></div>
 \n<div>Member $20.00</div>\n<div>Non-Member $45.00</div>\n<div><strong>Cre
 dit Card Payment Only</strong></div>\n<div><br />\n</div>\n<div>Questions:
  <a href="mailto:IAAI-Training@firearson.com">IAAI-Training@firearson.com<
 /a></div>\n<div><br />\n</div>\n<br />\n</div>\n<div>\n<br />\n</div>
END:VEVENT
END:VCALENDAR
