BEGIN:VCALENDAR
VERSION:2.0
PRODID:-//ddaysoftware.com//NONSGML DDay.iCal 1.0//EN
BEGIN:VEVENT
DTEND:20210602T200000Z
DTSTAMP:20260423T195509Z
DTSTART:20210602T170000Z
LOCATION:firearson.zoom.us 2111 Baldwin Avenue Crofton\, MD 21114-2419 US
SEQUENCE:0
SUMMARY:Virtual Training - Improving Fire Investigator Health and Safety - 
 6.2.21
UID:da292172-fc81-43f4-8b72-35acf22287df
X-ALT-DESC;FMTTYPE=text/html:<p>\n</p>\n<div>\n<div>\n<div><strong></strong
 ></div>\n<div><strong>Improving Fire Investigator Health and Safety</stron
 g><br />\n</div>\n</div>\n<div>\n<div>Instructor: Jeff Pauley</div>\n<div>
 June 2\, 2021 - 1:00pm - 4:00pm EDT</div>\n<div>Live Virtual Training usin
 g Zoom</div>\n<div><br />\n</div>\n<div><strong>Goal:</strong> This presen
 tation provides attendees with an understanding of the many health and saf
 ety hazards present in the post-fire environment to identify the situation
 s where toxic gases\, vapors\, and particulates exist and the dangers of t
 hese substances\, along with other hazards\, pose. Attendees should then u
 nderstand the need to use personal protective equipment\, including proper
  respiratory protection\, in the post-fire environment.</div>\n<div><br />
 \n</div>\n<div><strong>Learning Objectives: </strong>At the end of this le
 sson\, the attendee should be able to:</div>\n<div><em>Identify and interp
 ret the types of physical\, biological\, and toxic hazards present at post
 -fire scenes</em></div>\n<div><em>Describe the effects of ventilation on t
 he structural post-fire scene</em></div>\n<div><em>Explain the relevant fi
 re investigation health hazard research studies</em></div>\n<div><em>Ident
 ify the proper types of safety and respiratory PPE that fire investigators
  should use</em></div>\n<div><br />\n</div>\n<div><strong>Fees:</strong></
 div>\n<div>IAAI Member - $0.00</div>\n<div>IAAI Non-Member $45.00</div>\n<
 div><em><strong>Credit Card Payment Only</strong></em></div>\n<div><span s
 tyle="text-decoration: underline\;">* You will receive two emails immediat
 ely after you register.&nbsp\; Please check your spam if you do not see th
 em.</span></div>\n<p>Registration closes at 5:00PM EST Tuesday\, June 1\, 
 2021</p>\n<p><strong><span style="font-size: 14px\;">You must register for
  this class before 5pm the day before training.</span></strong>\n</p>\n<di
 v><strong><span style="font-size: 14px\;">There will be no "On Demand" pur
 chase of this class.</span></strong></div>\n<div><br />\n</div>\n<div>Your
  Firearson.com and CFITriainer.Net emails must match.</div>\n<div>Question
 s:<a href="mailto: IAAI-Training@Firearson.com"> IAAI-Training@Firearson.c
 om</a></div>\n<br />\n</div>\n<br />\n</div>
END:VEVENT
END:VCALENDAR
