BEGIN:VCALENDAR
VERSION:2.0
PRODID:-//ddaysoftware.com//NONSGML DDay.iCal 1.0//EN
BEGIN:VEVENT
DTEND:20220310T193000Z
DTSTAMP:20260421T123221Z
DTSTART:20220310T180000Z
LOCATION:16901 Melford Blvd Ste 101 Firearson.Zoom.Us Bowie\, MD 20715-4444
  US
SEQUENCE:0
SUMMARY:Virtual Training - Vetting the Expert 3.10.2022
UID:b17c9f33-d373-48ca-a8bb-ed712146556c
X-ALT-DESC;FMTTYPE=text/html:<p>\n</p>\n<div>\n<div>\n<div><strong></strong
 ></div>\n<p>\n</p>\n<p>\n</p>\n<p>\n</p>\n<p>\n</p>\n<p>\n</p>\n<p>\n</p>\
 n<div><strong>Insurance Track - Vetting the Expert</strong></div>\n<div>In
 structors: Michael Pression</div>\n<div>March 10\, 2022 1:00pm - 2:30pm Ea
 stern</div>\n<div>Live Virtual Training Webinar</div>\n<p><span style="col
 or: #2f5597\;"></span></p>\n<p>\n</p>\n<p><strong><em>Presenters:</em></st
 rong>\n</p>\n<p><strong>Michael Presson</strong>\, IAAI-CFI has conducted 
 Origin &amp\; Cause investigations into fires and explosions in both the P
 ublic and Private Sectors for over 20 years. His private sector work has i
 ncluded working for a Private Fire Investigation Firm in the Midwest\, wor
 king for Product Manufacturers\, and working at a Major Insurance Company 
 in the Origin &amp\; Cause capacity. Mike has been qualified as an Expert 
 Witness in both State and Federal Courts.ng his years as an attorney.&nbsp
 \;&nbsp\;</p>\n<p><strong>\nAnthony Morrone</strong> is a shareholder at t
 he law firm of Cozen O&rsquo\;Connor where he practices in the firm&rsquo\
 ;s subrogation department.&nbsp\; Tony has successfully tried or arbitrate
 d more than two dozen cases and has mediated many others in the course of 
 his career.&nbsp\; A member of the Federal Trial Bar and frequent lecturer
 \, Tony has handled the investigation and litigation of hundreds of fires 
 claims during his years as an attorney.</p>\n<p>\n</p>\n<p><strong>Course 
 Description</strong><br />\nThis class is designed for Insurance Professio
 nals whose responsibility is assigning experts to fire and explosion claim
 s. We will discuss the importance of selecting the appropriate expert who 
 can render an opinion concerning the origin &amp\; cause of fires and expl
 osions\, questions to ask when vetting an expert\, expert qualifications/c
 ertifications and documentation.</p>\n<p>\n</p>\n<div>\n<p><span style="co
 lor: #2f5597\;"></span></p>\n<p>\n</p>\n<p><strong><em>Fee: Free to All</e
 m></strong></p>\n</div>\n<p><strong>Your Firearson.com and CFITriainer.Net
  emails must match to watch the program live\, or watch the recording at a
  later date. To match emails <a href="https://firearson.sharepoint.com/:b:
 /g/EdaR7gUgLn9EgzdbhM4AmUkBIgg-En9df6rQP2IS9-p3Gg?e=zaGp6e">click here</a>
 .</strong></p>\n<p>\n</p>\n<div>* You will receive two emails immediately 
 after you register.&nbsp\; Please check your spam if you do not see them.<
 /div>\n<div>Registration closes at 5:00PM Eastern Wednesday\, March 9\, 20
 22</div>\n<div><br />\n</div>\n<div>Any questions?<a href="mailto: IAAI-Tr
 aining@firearson.com"> IAAI-Training@firearson.com</a></div>\n<p>\n</p>\n<
 p>\n</p>\n<div>\n<div><br />\n</div>\n<div><br />\n</div>\n</div>\n<p>\n</
 p>\n</div>\n<div>\n<div>\n<div>\n<div>\n&nbsp\;<br />\n</div>\n<div><br />
 \n</div>\n<br />\n</div>\n</div>\n</div>\n<div>\n<br />\n</div>\n<br />\n<
 /div>
END:VEVENT
END:VCALENDAR
