BEGIN:VCALENDAR
VERSION:2.0
PRODID:-//ddaysoftware.com//NONSGML DDay.iCal 1.0//EN
BEGIN:VEVENT
DTEND:20230725T150000Z
DTSTAMP:20260425T023818Z
DTSTART:20230725T133000Z
LOCATION:One John Nolen Drive  Madison\, WI 53703 US
SEQUENCE:0
SUMMARY:COLO/IR Roundtable: Tumultuous Times: Institutional Pivots and the 
 Demand for COLO Leadership
UID:017283d8-2589-4e45-ac70-c362a21d323a
X-ALT-DESC;FMTTYPE=text/html:<p style="text-align: left\;"><span style="fon
 t-size: 14px\;"><strong></strong></span></p>\n<span style="font-size: 12px
 \;"><strong><span style="font-size: 14px\;">April 2022 Roundtable - From N
 iche to Necessity: Integrated Campus Services and the Changing Role of the
  Online Enterprise</span></strong><br />\n<br />\n</span><span style="font
 -size: 13px\;">July 25</span><span style="font-size: 12px\;"><span style="
 font-size: 13px\;">\, 2023\, 8:30-10:00 AM<br />\nMonona Terrace Community
  &amp\; Convention Center<br />\n<br />\n<br />\n<p dir="ltr" style="line-
 height: 1.2\; margin-top: 0pt\; margin-bottom: 0pt\;" id="docs-internal-gu
 id-4d4b7dd6-7fff-bc93-b3b9-00b1b9f35fb2">Integrated planning efforts (budg
 et\, digital\, academic planning\, SEM\, etc.) require COLOs to advocate f
 or learners in new ways &ndash\; what particular skills can COLOs bring to
  these integrated efforts (change management\, etc.) that will help move i
 nstitutions forward into a sustainable digital future? Join your colleague
 s and friends as we consider the role of COLOs from two different perspect
 ives:</p>\n<br />\n<p dir="ltr" style="line-height: 1.2\; margin-top: 0pt\
 ; margin-bottom: 0pt\;">Advocacy and Mission: Capitalizing on our Eye of S
 auron Moment</p>\n<p dir="ltr" style="line-height: 1.2\; margin-top: 0pt\;
  margin-bottom: 0pt\;">COLO Competencies: Change Management and the Normal
 ization of Crisis Management</p>\n<br />\nEach institution&rsquo\;s delega
 te to the Council will be able to attend C-COLO convenings and will be at 
 the forefront of UPCEA&rsquo\;s growing number of online initiatives.<br /
 >\n<br />\nCOLOs/C-COLO delegates:&nbsp\;<br />\n<br />\n</span>\n<ul>\n  
   <li><span style="font-size: 13px\;">Meet for peer-to-peer networking and
  to discuss issues related to leadership\, strategy\, management\, and pub
 lic policy at the Roundtable\, the annual convening of C-COLO.&nbsp\;</spa
 n></li>\n    <li><span style="font-size: 13px\;"><br />\n    </span></li>\
 n    <li><span style="font-size: 13px\;">Have access to special content fo
 cusing on the COLO perspective at UPCEA events such as the Summit for Onli
 ne Leadership and Administration and the UPCEA Annual Conference.&nbsp\;</
 span></li>\n    <li><span style="font-size: 13px\;"><br />\n    </span></l
 i>\n    <li><span style="font-size: 13px\;">Communicate via exclusive list
 serv and online community for COLOs to allow sharing of candid questions a
 nd comments with peers.&nbsp\;</span></li>\n</ul>\n<span style="font-size:
  13px\;"><br />\n<strong><span style="font-size: 14px\;">\n*What is a Chie
 f Online Learning Officer (COLO)</span></strong><br />\nA Chief Online Lea
 rning Officer (COLO) is the decision-maker for an online enterprise (wheth
 er at the unit\, college\, or institutional level). COLOs are accountable 
 to the online enterprise and make the decisions to advance the strategy\, 
 leadership\, and vision of postsecondary online education. At the operatio
 nal level\, a COLO makes the critical path decisions for an online enterpr
 ise (e.g. technology\, outsourcing strategic enrollment management vs. bui
 lding internal teams\, etc.). UPCEA recognizes there is diversity in such 
 roles and decisions. COLOs are sometimes professional or continuing educat
 ion deans with online in their portfolio\, while others are solely focused
  on online learning.<br />\n<br />\nFor more information or for any questi
 ons please contact info@upcea.edu.</span></span><span style="font-size: 13
 px\;">\n</span>\n<p style="text-align: left\;"><span style="font-size: 12p
 x\; font-family: verdana\;"><em><br />\n</em></span></p>
END:VEVENT
END:VCALENDAR
