BEGIN:VCALENDAR
VERSION:2.0
PRODID:-//ddaysoftware.com//NONSGML DDay.iCal 1.0//EN
BEGIN:VEVENT
DTEND:20260807T040000Z
DTSTAMP:20260424T224123Z
DTSTART:20260706T040000Z
SEQUENCE:0
SUMMARY:Organizing and Motivating Online and Professional Education Enterpr
 ises: Getting the Work Done - July 2026
UID:eef8f1e7-bdc2-4aa2-a230-ff2bff3508c7
X-ALT-DESC;FMTTYPE=text/html:<span id="docs-internal-guid-5fbd8a47-7fff-d66
 2-44af-e9f4cab2d1c2">\n<p dir="ltr" style="line-height: 1.38\; margin-top:
  0pt\; margin-bottom: 13pt\;"><span style="font-size: 11pt\; background-co
 lor: transparent\; font-variant-numeric: normal\; font-variant-east-asian:
  normal\; text-decoration-line: underline\; text-decoration-skip-ink: none
 \; vertical-align: baseline\; white-space: pre-wrap\; font-family: arial\;
 "></span></p>\n<p style="box-sizing: inherit\; margin-bottom: 16px\; font-
 size: 13px\; line-height: 1.6\; color: #666666\; font-family: &quot\;trebu
 chet ms&quot\;\, &quot\;helvetica neue&quot\;\, helvetica\, tahoma\, sans-
 serif\;"><strong style="box-sizing: inherit\;">Facilitator</strong></p>\n<
 p style="box-sizing: inherit\; margin-bottom: 16px\; font-size: 13px\; lin
 e-height: 1.6\; color: #666666\; font-family: &quot\;trebuchet ms&quot\;\,
  &quot\;helvetica neue&quot\;\, helvetica\, tahoma\, sans-serif\;">Dr. Nan
 cy Coleman</p>\n<p style="box-sizing: inherit\; margin-bottom: 16px\; font
 -size: 13px\; line-height: 1.6\; color: #666666\; font-family: &quot\;treb
 uchet ms&quot\;\, &quot\;helvetica neue&quot\;\, helvetica\, tahoma\, sans
 -serif\;"><strong style="box-sizing: inherit\;">Cost</strong></p>\n<p styl
 e="box-sizing: inherit\; margin-bottom: 16px\; font-size: 13px\; line-heig
 ht: 1.6\; color: #666666\; font-family: &quot\;trebuchet ms&quot\;\, &quot
 \;helvetica neue&quot\;\, helvetica\, tahoma\, sans-serif\;">Members: $459
 .00</p>\n<p style="box-sizing: inherit\; margin-bottom: 16px\; font-size: 
 13px\; line-height: 1.6\; color: #666666\; font-family: &quot\;trebuchet m
 s&quot\;\, &quot\;helvetica neue&quot\;\, helvetica\, tahoma\, sans-serif\
 ;">Non-Members: $599.00</p>\n<p style="box-sizing: inherit\; margin-bottom
 : 16px\; font-size: 13px\; line-height: 1.6\; color: #666666\; font-family
 : &quot\;trebuchet ms&quot\;\, &quot\;helvetica neue&quot\;\, helvetica\, 
 tahoma\, sans-serif\;"><strong style="box-sizing: inherit\;">Description</
 strong></p>\n<p style="box-sizing: inherit\; margin-bottom: 16px\; font-si
 ze: 13px\; line-height: 1.6\; color: #666666\; font-family: &quot\;trebuch
 et ms&quot\;\, &quot\;helvetica neue&quot\;\, helvetica\, tahoma\, sans-se
 rif\;">What is the best way to organize the human resources of a PCO unit?
 &nbsp\; That&rsquo\;s a good question (without just one answer)\, that wil
 l be explored in this interactive 4 week course.&nbsp\; Hiring\, organizin
 g and managing both administrative and faculty talent is one of the critic
 al factors of success in continuing education.&nbsp\; What are some of the
  various overall structures employed in designing a PCO unit\, and their p
 ros/cons?&nbsp\; How are teams assembled to design and launch new programs
 ? How do you integrate and work with those elsewhere in the university and
  outside (vendors)?&nbsp\; How can you maintain high performing operations
  that balance continuous improvement and innovation?&nbsp\;&nbsp\;</p>\n<p
  style="box-sizing: inherit\; margin-bottom: 16px\; font-size: 13px\; line
 -height: 1.6\; color: #666666\; font-family: &quot\;trebuchet ms&quot\;\, 
 &quot\;helvetica neue&quot\;\, helvetica\, tahoma\, sans-serif\;">This cou
 rse provides a broad understanding of these elements and others. Organized
  around a team model\, participants will engage with colleagues from other
  institutions to ensure a dynamic understanding of the issues.<br style="b
 ox-sizing: inherit\;" />\n</p>\n<p style="box-sizing: inherit\; margin-bot
 tom: 16px\; font-size: 13px\; line-height: 1.6\; color: #666666\; font-fam
 ily: &quot\;trebuchet ms&quot\;\, &quot\;helvetica neue&quot\;\, helvetica
 \, tahoma\, sans-serif\;"><strong style="box-sizing: inherit\;">Topics Cov
 ered</strong></p>\n<ul style="box-sizing: inherit\; margin-bottom: 16px\; 
 margin-left: 24px\; list-style: none\; color: #333333\; font-family: &quot
 \;trebuchet ms&quot\;\, &quot\;helvetica neue&quot\;\, helvetica\, tahoma\
 , sans-serif\; font-size: 16px\;">\n    <li style="box-sizing: inherit\; t
 ext-align: left\;">Structure and Leadership</li>\n    <li style="box-sizin
 g: inherit\; text-align: left\;">Teams and Remote Work&nbsp\;</li>\n    <l
 i style="box-sizing: inherit\; text-align: left\;">Strategic Outsourcing\,
  Advocacy\, and Change</li>\n    <li style="box-sizing: inherit\; text-ali
 gn: left\;">Culture and Inclusion</li>\n</ul>\n<p style="box-sizing: inher
 it\; margin-bottom: 16px\; font-size: 13px\; line-height: 1.6\; color: #66
 6666\; font-family: &quot\;trebuchet ms&quot\;\, &quot\;helvetica neue&quo
 t\;\, helvetica\, tahoma\, sans-serif\;"><strong style="box-sizing: inheri
 t\;">Learning Objectives</strong></p>\n<ul style="box-sizing: inherit\; ma
 rgin-bottom: 16px\; margin-left: 24px\; list-style: none\; color: #333333\
 ; font-family: &quot\;trebuchet ms&quot\;\, &quot\;helvetica neue&quot\;\,
  helvetica\, tahoma\, sans-serif\; font-size: 16px\;">\n    <li style="box
 -sizing: inherit\; text-align: left\;">Identify the ways in which a PCO un
 it can be organized</li>\n    <li style="box-sizing: inherit\; text-align:
  left\;">Appreciate the complexity of faculty engagement</li>\n    <li sty
 le="box-sizing: inherit\; text-align: left\;">Assess the role of remote wo
 rk for PCO teams</li>\n    <li style="box-sizing: inherit\; text-align: le
 ft\;">Understand how change affects PCO units</li>\n    <li style="box-siz
 ing: inherit\; text-align: left\;">Identify methods to break down internal
  barriers to change</li>\n    <li style="box-sizing: inherit\; text-align:
  left\;">Identify strategies to create a more diverse\, inclusive PCO unit
 s</li>\n</ul>\n<p style="box-sizing: inherit\; margin-bottom: 16px\; font-
 size: 13px\; line-height: 1.6\; color: #666666\; font-family: &quot\;trebu
 chet ms&quot\;\, &quot\;helvetica neue&quot\;\, helvetica\, tahoma\, sans-
 serif\;"><strong style="box-sizing: inherit\;">Who should take this course
 ?&nbsp\;</strong></p>\n<p style="box-sizing: inherit\; margin-bottom: 16px
 \; font-size: 13px\; line-height: 1.6\; color: #666666\; font-family: &quo
 t\;trebuchet ms&quot\;\, &quot\;helvetica neue&quot\;\, helvetica\, tahoma
 \, sans-serif\;">This course is designed for current and aspiring leaders 
 in higher education administrations\, especially those who work in profess
 ional\, continuing\, and online education who seek practical and applicabl
 e knowledge on the best ways to organize the human resources of a PCO unit
 .&nbsp\;</p>\n<p style="box-sizing: inherit\; margin-bottom: 16px\; font-s
 ize: 13px\; line-height: 1.6\; color: #666666\; font-family: &quot\;trebuc
 het ms&quot\;\, &quot\;helvetica neue&quot\;\, helvetica\, tahoma\, sans-s
 erif\;"><strong style="box-sizing: inherit\;">Format and Schedule</strong>
 </p>\n<p style="box-sizing: inherit\; margin-bottom: 16px\; line-height: 1
 .6\; font-family: &quot\;trebuchet ms&quot\;\, &quot\;helvetica neue&quot\
 ;\, helvetica\, tahoma\, sans-serif\;"><span style="font-size: 13px\; colo
 r: #666666\;">This is a four week course consisting of about five hours of
  weekly course work made up of readings\, asynchronous activities\, and a 
 weekly one hour live class meeting via Zoom. The schedule for the weekly m
 eetings will be shared soon</span></p>\n<ul style="margin-bottom: 0px\;">\
 n    <li><span id="docs-internal-guid-5fbd8a47-7fff-d662-44af-e9f4cab2d1c2
 " style="background-color: transparent\; font-size: 11pt\; font-variant-nu
 meric: normal\; font-variant-east-asian: normal\; vertical-align: baseline
 \; white-space: pre-wrap\; font-family: arial\;"></span></li>\n    <li><sp
 an id="docs-internal-guid-5fbd8a47-7fff-d662-44af-e9f4cab2d1c2"><a href="h
 ttps://elevate.upcea.edu/faqs" style="background-color: transparent\; font
 -family: arial\; font-size: 11pt\; white-space: pre\; text-decoration-line
 : none\;"><span style="font-size: 11pt\; background-color: transparent\; f
 ont-variant-numeric: normal\; font-variant-east-asian: normal\; text-decor
 ation-line: underline\; text-decoration-skip-ink: none\; vertical-align: b
 aseline\; white-space: pre-wrap\; color: #1155cc\;">Review our participant
  FAQ</span></a></span></li>\n    <li><span id="docs-internal-guid-5fbd8a47
 -7fff-d662-44af-e9f4cab2d1c2"><span style="background-color: transparent\;
  font-size: 11pt\; font-variant-numeric: normal\; font-variant-east-asian:
  normal\; vertical-align: baseline\; white-space: pre-wrap\; font-family: 
 arial\;">Read the </span><a href="https://core.upcea.edu/codeofconduct" st
 yle="background-color: transparent\; font-family: arial\; font-size: 11pt\
 ; white-space: pre\; text-decoration-line: none\;"><span style="font-size:
  11pt\; background-color: transparent\; font-variant-numeric: normal\; fon
 t-variant-east-asian: normal\; text-decoration-line: underline\; text-deco
 ration-skip-ink: none\; vertical-align: baseline\; white-space: pre-wrap\;
  color: #1155cc\;">Code of Conduct</span></a><span style="background-color
 : transparent\; font-size: 11pt\; font-variant-numeric: normal\; font-vari
 ant-east-asian: normal\; vertical-align: baseline\; white-space: pre-wrap\
 ; font-family: arial\;"> and our </span><a href="https://upcea.edu/about/p
 rivacy-policy/" style="background-color: transparent\; font-family: arial\
 ; font-size: 11pt\; white-space: pre\; text-decoration-line: none\;"><span
  style="font-size: 11pt\; background-color: transparent\; font-variant-num
 eric: normal\; font-variant-east-asian: normal\; text-decoration-line: und
 erline\; text-decoration-skip-ink: none\; vertical-align: baseline\; white
 -space: pre-wrap\; color: #1155cc\;">Privacy Policy</span></a></span></li>
 \n    <li><span id="docs-internal-guid-5fbd8a47-7fff-d662-44af-e9f4cab2d1c
 2"><span style="background-color: transparent\; font-size: 11pt\; font-var
 iant-numeric: normal\; font-variant-east-asian: normal\; vertical-align: b
 aseline\; white-space: pre-wrap\; font-family: arial\; color: #000000\;">R
 efund Policy: </span><span style="background-color: transparent\; font-siz
 e: 11pt\; font-variant-numeric: normal\; font-variant-east-asian: normal\;
  vertical-align: baseline\; white-space: pre-wrap\; font-family: arial\; c
 olor: #000000\;">Registrants who request to cancel their registration by 5
 :00 pm EST on the Friday after the course begins will have the option to t
 ransfer that registration one time to a colleague at their institution or 
 to any other Online PD course offered within six months of cancellation. I
 f no suitable offerings are available within six months at the time of can
 cellation\, registrants can request a refund of their registration fee min
 us a $50.00 administrative fee. No transfers or refunds will be available 
 after the first week of the course. Cancellation requests must be made in 
 writing and sent to </span><a href="mailto:pd@upcea.edu" style="background
 -color: transparent\; font-family: arial\; font-size: 11pt\; white-space: 
 pre\; text-decoration-line: none\;"><span style="font-size: 11pt\; font-va
 riant-numeric: normal\; font-variant-east-asian: normal\; text-decoration-
 line: underline\; text-decoration-skip-ink: none\; vertical-align: baselin
 e\; white-space: pre-wrap\; color: #1155cc\;">pd@upcea.edu</span></a></spa
 n></li>\n</ul>\n<span style="background-color: transparent\; font-size: 11
 pt\; white-space: pre\; font-family: arial\; color: #000000\;">\n</span><s
 pan style="background-color: transparent\; font-size: 11pt\; font-variant-
 numeric: normal\; font-variant-east-asian: normal\; vertical-align: baseli
 ne\; white-space: pre-wrap\; font-family: arial\; color: #000000\;">Please
  direct all additional questions to </span><a href="mailto:pd@upcea.edu" s
 tyle="background-color: transparent\; font-family: arial\; font-size: 11pt
 \; white-space: pre\; text-decoration-line: none\;"><span style="font-size
 : 11pt\; background-color: transparent\; font-variant-numeric: normal\; fo
 nt-variant-east-asian: normal\; text-decoration-line: underline\; text-dec
 oration-skip-ink: none\; vertical-align: baseline\; white-space: pre-wrap\
 ; color: #1155cc\;">pd@upcea.edu</span></a><span style="background-color: 
 transparent\; font-size: 11pt\; font-variant-numeric: normal\; font-varian
 t-east-asian: normal\; vertical-align: baseline\; white-space: pre-wrap\; 
 font-family: arial\; color: #000000\;">.</span><span style="background-col
 or: transparent\; font-size: 11pt\; white-space: pre\; font-family: arial\
 ; color: #000000\;"><br />\n</span><span style="background-color: transpar
 ent\; font-size: 11pt\; white-space: pre\; font-family: arial\; color: #00
 0000\;">    </span><br />\n<ul style="margin-bottom: 0px\;">\n</ul>\n<br /
 >\n<br />\n<p dir="ltr" style="line-height: 1.38\; margin-top: 0pt\; margi
 n-bottom: 0pt\;"><span style="font-size: 11pt\; background-color: transpar
 ent\; font-weight: 700\; font-style: italic\; font-variant-numeric: normal
 \; font-variant-east-asian: normal\; vertical-align: baseline\; white-spac
 e: pre-wrap\; font-family: arial\;">If you have not started the registrati
 on process\, go down and click "Register for this Event" below.&nbsp\;</sp
 an></p>\n<br />\n<p dir="ltr" style="line-height: 1.38\; margin-top: 0pt\;
  margin-bottom: 0pt\;"><span style="font-size: 11pt\; background-color: tr
 ansparent\; font-style: italic\; font-variant-numeric: normal\; font-varia
 nt-east-asian: normal\; text-decoration-line: underline\; text-decoration-
 skip-ink: none\; vertical-align: baseline\; white-space: pre-wrap\; font-f
 amily: arial\; color: #ff0000\;">You MUST click "Allow Cookies" in the bot
 tom left corner to access any links or areas of the member portal.</span><
 /p>\n<div><span style="font-size: 11pt\; background-color: transparent\; f
 ont-style: italic\; font-variant-numeric: normal\; font-variant-east-asian
 : normal\; text-decoration-line: underline\; text-decoration-skip-ink: non
 e\; vertical-align: baseline\; white-space: pre-wrap\; font-family: arial\
 ; color: #ff0000\;"><br />\n</span></div>\n</span>
END:VEVENT
END:VCALENDAR
