BEGIN:VCALENDAR
VERSION:2.0
PRODID:-//ddaysoftware.com//NONSGML DDay.iCal 1.0//EN
BEGIN:VEVENT
DTEND:20230727T170000Z
DTSTAMP:20260425T024737Z
DTSTART:20230725T180000Z
SEQUENCE:0
SUMMARY:Virtual Streaming Package: 2023 DT&L and SOLA+R
UID:16a3eab6-109b-4288-887f-fbd11ab64b5b
X-ALT-DESC;FMTTYPE=text/html:<p><strong>The Virtual Streaming Package for t
 he 2023 Distance Teaching and Learning (DT&amp\;L) Conference and Summit f
 or Online Leadership &amp\; Administration is being held virtually July 25
 -27\, 2023.</strong></p>\n<div>\n<div class="mod" data-attrid="kc:/collect
 ion/knowledge_panels/has_phone:phone" data-md="1006" style="clear: none\;"
  data-hveid="CA4QAA" data-ved="2ahUKEwi2-tjuquvgAhXnYd8KHUG_AW8QkCkwHXoECA
 4QAA">\n<div class="Z1hOCe">\n<p><span style="font-size: 10.5pt\; line-hei
 ght: 107%\;"><a href="#bottom">Click here to jump to registration links be
 low.</a></span></p>\n</div>\n</div>\n</div>\n<span class="property-telepho
 ne"> </span>\n<table style="margin-left: 0.1in\; margin-right: 0.1in\;" ce
 llspacing="0" cellpadding="0" border="1" align="left">\n    <tbody>\n    <
 /tbody>\n</table>\n<table width="779" cellspacing="0" cellpadding="0" bord
 er="1">\n    <tbody>\n        <tr style="height: 47.55pt\;">\n            
 <td style="width: 78.95pt\; background: #cccccc\; padding: 0in\; height: 4
 7.55pt\;"><br />\n            </td>\n            <td style="width: 86.6pt\
 ; background: #cccccc\; padding: 0in\; height: 47.55pt\;">\n            <p
  style="text-align: center\;"><strong>Registration<br />\n            </st
 rong></p>\n            </td>\n        </tr>\n        <tr style="height: 32
 .35pt\;">\n            <td style="width: 78.95pt\; padding: 0in\; height: 
 32.35pt\;">\n            <p style="text-align: center\;"><strong>UPCEA Mem
 ber:&nbsp\; Individual<br />\n            </strong></p>\n            </td>
 \n            <td style="width: 86.6pt\; background: white\; padding: 0in\
 ; height: 32.35pt\;">\n            <p style="text-align: center\;">$300</p
 >\n            </td>\n        </tr>\n        <tr style="height: 32.35pt\;"
 >\n            <td style="width: 78.95pt\; padding: 0in\; height: 32.35pt\
 ;" align="center"><strong>&nbsp\;UPCEA Member:&nbsp\; 5-Person Pass<br />\
 n            (10% Discount)<br />\n            </strong></td>\n           
  <td style="width: 86.6pt\; background: white\; padding: 0in\; height: 32.
 35pt\;" align="center">&nbsp\;$1\,350</td>\n        </tr>\n        <tr sty
 le="height: 32.35pt\;">\n            <td style="width: 78.95pt\; padding: 
 0in\; height: 32.35pt\;" align="center"><strong>&nbsp\;UPCEA Member:&nbsp\
 ; 10-Person Pass<br />\n            (20% Discount)</strong></td>\n        
     <td style="width: 86.6pt\; background: white\; padding: 0in\; height: 
 32.35pt\;" align="center">&nbsp\;$2\,400</td>\n        </tr>\n        <tr 
 style="height: 30.15pt\;">\n            <td style="width: 78.95pt\; paddin
 g: 0in\; height: 30.15pt\;">\n            <p style="text-align: center\;">
 <strong>Non-Member:&nbsp\; Individual<br />\n            </strong></p>\n  
           </td>\n            <td style="width: 86.6pt\; padding: 0in\; hei
 ght: 30.15pt\;">\n            <p style="text-align: center\;">$350</p>\n  
           </td>\n        </tr>\n        <tr style="height: 30.15pt\;">\n  
           <td style="width: 78.95pt\; padding: 0in\; height: 30.15pt\;" al
 ign="center">&nbsp\;<strong> Non-Member:&nbsp\; 5-Person Pass<br />\n     
        (10% Discount)</strong></td>\n            <td style="width: 86.6pt\
 ; padding: 0in\; height: 30.15pt\;" align="center">$1\,575 <br />\n       
      </td>\n        </tr>\n        <tr style="height: 30.15pt\;">\n       
      <td style="width: 78.95pt\; padding: 0in\; height: 30.15pt\;" align="
 center"><strong> Non-Member:&nbsp\; 10-Person Pass<br />\n            (10%
  Discount)</strong>&nbsp\;</td>\n            <td style="width: 86.6pt\; pa
 dding: 0in\; height: 30.15pt\;" align="center">&nbsp\;$2\,800</td>\n      
   </tr>\n    </tbody>\n</table>\n<strong></strong>\n<p>&nbsp\;<br />\n<str
 ong><em><span style="text-decoration: underline\;">To register other peopl
 e from the same institution</span>\, log in and click on "Manage Group Reg
 istration" below.<strong><em> (Members Only) <br />\n</em></strong></em></
 strong> </p>\n<span style="font-size: 11px\; font-family: verdana\;"><stro
 ng>Invoicing is not available for the Virtual Streaming Package.</strong><
 br />\n</span><br />\n<p dir="ltr" style="line-height: 1.38\; margin-top: 
 0pt\; margin-bottom: 0pt\;" id="docs-internal-guid-e21827f2-7fff-fc64-6a09
 -bf43c520158c"><strong>Event Description</strong></p>\n<span style="font-s
 ize: 11px\; font-family: verdana\;">Discover two premier conferences comin
 g together to create the most holistic online education event in the field
  from the convenience of your desk! With the <strong>Virtual Streaming Pac
 kage:&nbsp\; 2023 DT&amp\;L and SOLA+R </strong></span><span style="font-s
 ize: 11px\; font-family: verdana\;" _face="verdana">you can engage with 30
 + sessions from the <strong>2023 Distance Teaching and Learning (DT&amp\;L
 ) Conference and Summit for Online Leadership &amp\; Administration </stro
 ng>July 25-27 affordably and virtually.<br />\n<br />\nThis comprehensive 
 learning experience brings together all the elements of the online enterpr
 ise in a holistic way&mdash\;from teaching and learning to leadership and 
 administration&mdash\;preserving the salient issues for these two distinct
  professional communities\, while catalyzing dialogue across all facets of
  the larger field. Register for the Virtual Streaming Package for the cont
 ent you need\, and to connect with speakers and colleagues from across the
  online enterprise.&nbsp\; <br />\n<br />\n</span>\n<div><span style="font
 -size: 11px\; font-family: verdana\;" _face="verdana">\n<strong><em>The ac
 cess link will be sent to the registrant's email one week prior to the eve
 nt.&nbsp\; Registration and access is limited to one individual per regist
 ration.</em></strong></span></div>\n<p><span style="font-size: 11px\; font
 -family: verdana\;" _face="verdana"><strong><em><br />\n*Registration must
  be completed by Monday\, July 24 in order to guarantee access to all live
  streams.<br />\n</em></strong></span></p>\n<span style="font-size: 11px\;
  font-family: verdana\;" _face="verdana">\n</span><br />\n<p><strong>\nRef
 unds</strong></p>\n<ul>\n    <li>All registration cancellation and refund 
 requests must be made in writing.&nbsp\; </li>\n</ul>\n<ul>\n    <li>Full 
 refunds will be granted for cancellations received by May 2\, 2023.&nbsp\;
  No refunds or credits will be granted for cancellations after May 2\, 202
 3.&nbsp\;&nbsp\;</li>\n</ul>\n<p>Please submit all requests to Jacqueline 
 Romero at <a href="mailto:jromero@upcea.edu">jromero@upcea.edu</a>. Anyone
  who is registered but cannot attend may transfer their registration to so
 meone from the same organization. Refunds will not be given for no-shows.<
 /p>\n<p><strong></strong></p>\n<p><strong><span style="font-family: verdan
 a\, sans-serif\;"></span></strong><strong>Conference Privacy Policy</stron
 g><br />\nAttendees of the Virtual Streaming Package grant UPCEA a non-exc
 lusive worldwide right to reproduce\, distribute\, any part or all of the 
 webinar presentation\, including any written or audio/visual material subm
 itted in connection with the presentation\, in whole or in part\, in any m
 edia\, including any audio or video recording of the presentation. You her
 eby consent to UPCEA&rsquo\;s use of any name\, photograph\, image\, prese
 ntation\, or portions quoted or derived from the presentations. You also u
 nderstand that the event in its entirety and/or portions thereof may be pu
 blished via podcasts\, webinars\, and other printed or electronic media an
 d by registering and agreeing to terms and conditions\, you are consenting
  to all such derivative uses. If you have any questions about this use\, p
 lease email <a href="mailto:info@upcea.edu">info@upcea.edu</a>.<span style
 ="font-family: verdana\, sans-serif\;"></span></p>\n<p> </p>\n<p><strong><
 span style="font-family: verdana\, sans-serif\;">Affiliated Events Policy<
 /span></strong><br />\nCorporate member and nonmember attendees are prohib
 ited from holding any meetings (briefings\, seminars\, etc.) targeting pro
 fessional\, continuing\, and online leaders in higher education who they k
 now will be attending the UPCEA event\, and utilizing our name and likenes
 s to do so\, unless otherwise negotiated and scheduled with and by UPCEA.<
 /p>\n<p><span style="font-family: verdana\, sans-serif\;"></span></p>\n<p>
  </p>\n<p><span style="font-family: verdana\, sans-serif\;">UPCEA reserves
  the right to prohibit corporate member and nonmember attendees who violat
 e this policy from exhibiting or participating at UPCEA events.</span></p>
 \n<p> </p>\n<p><strong><em>If you encounter any errors or&nbsp\;need assis
 tance with your registration\, please contact us at 202-659-3130 or </em><
 /strong><a href="mailto:jromero@upcea.edu"><em>jromero@upcea.edu</em></a><
 strong><em>.</em></strong></p>\n<p><strong><em><br />\n</em></strong></p>\
 n<a id="bottom"></a>
END:VEVENT
END:VCALENDAR
