BEGIN:VCALENDAR
VERSION:2.0
PRODID:-//ddaysoftware.com//NONSGML DDay.iCal 1.0//EN
BEGIN:VEVENT
DTEND:20260729T154500Z
DTSTAMP:20260424T190535Z
DTSTART:20260729T140000Z
LOCATION:425 Summer Street  Boston\, MA 02210 US
SEQUENCE:0
SUMMARY:SOLAR26 C-COLO Convening
UID:df8461c2-0d26-4a2b-a0d6-b114f81672a4
X-ALT-DESC;FMTTYPE=text/html:<p style="text-align: left\;"><span style="fon
 t-size: 14px\; font-family: arial\;"><strong></strong></span></p>\n<span s
 tyle="font-size: 14px\; font-family: arial\;"><strong><span style="font-si
 ze: 14px\;">SOLAR26 C-COLO Convening - </span>Regulation and Revenue: Stra
 tegic Foresight for Online Learning Leaders</strong><em><br />\n</em>\n<br
  />\n</span><span style="font-size: 14px\; font-family: arial\;">July 29</
 span><span style="font-size: 14px\; font-family: arial\;">\, 2026\, 10:00-
 11:45 AM<br />\n<br />\n</span>\n<div><span style="font-family: arial\;">W
 estin Boston Seaport District</span></div>\n<p><span style="font-size: 14p
 x\; white-space: normal\; font-family: arial\;"></span>425 Summer Street<b
 r />\nBoston\, MA 02210 <br />\n<span style="font-size: 14px\; white-space
 : normal\; font-family: arial\;"></span></p>\n<div><span style="white-spac
 e: normal\; font-size: 14px\; font-family: arial\;">\n<p dir="ltr" style="
 line-height: 1.2\; margin-top: 0pt\; margin-bottom: 0pt\;" id="docs-intern
 al-guid-4d4b7dd6-7fff-bc93-b3b9-00b1b9f35fb2"><strong>Event Description:</
 strong></p>\n</span></div>\n<p dir="ltr" style="line-height: 1.2\; margin-
 top: 0pt\; margin-bottom: 0pt\;" id="docs-internal-guid-205e2dfb-7fff-8302
 -a73c-85f5c48d7e12">As online education continues to grow in scale and str
 ategic importance\, Chief Online Learning Officers face a new convergence 
 of pressure: heightened regulatory scrutiny and increasingly fragile finan
 cial models. This interactive session brings together executive leaders to
  explore the implications of shifting federal aid policies\, evolving defi
 nitions of online learning\, and the long-term viability of traditional re
 venue streams. Through expert insights\, scenario-based planning\, and pee
 r dialogue\, participants will assess institutional risk\, challenge outda
 ted assumptions\, and leave with tools to align compliance obligations wit
 h sustainable online growth strategies.</p>\n<br />\n<p dir="ltr" style="l
 ine-height: 1.2\; margin-top: 0pt\; margin-bottom: 0pt\;"><strong>The Comp
 liance Crossroads: Regulation\, Risk\, and the Future of Digital Learning<
 br />\n</strong></p>\n<ul>\n    <li><span style="white-space: pre\;">\n   
  <p dir="ltr" style="line-height: 1.2\; margin-top: 0pt\; margin-bottom: 0
 pt\;">Updates on Title IV\, state/federal regulatory shifts<br />\n    The
  implications of federal aid reform (e.g.\, Workforce Pell\, Grad PLUS\, g
 ainful employment\, reporting complexity)<span style="white-space: pre\;">
    </span></p>\n    </span></li>\n</ul>\n<ul style="margin-top: 0px\; marg
 in-bottom: 0px\; padding-inline-start: 48px\;">\n</ul>\n<p dir="ltr" style
 ="line-height: 1.2\; margin-top: 0pt\; margin-bottom: 0pt\;"><strong>Disru
 pted Models: Online Enterprise Financial Sustainability<br />\n</strong></
 p>\n<ul>\n    <li><span style="white-space: pre\;">Financial pressures and
  revenue dependency on online programs<br />\n    Internal cross-subsidiza
 tion models and CFO collaboration\n    <p dir="ltr" style="line-height: 1.
 2\; margin-top: 0pt\; margin-bottom: 0pt\;" role="presentation">Changing t
 uition models (subscription\, stackable\, short-form)</p>\n    </span></li
 >\n</ul>\n<p dir="ltr" style="line-height: 1.2\; margin-top: 0pt\; margin-
 bottom: 0pt\;"><strong>Aligning Compliance and Revenue Strategy: A Leaders
 hip Planning Exercise<br />\n</strong></p>\n<ul>\n    <li>In peer groups\,
  COLOs will identify ways to bridge the gap between evolving regulations a
 nd institutional financial models through scenario planning.</li>\n</ul>\n
 <blockquote>\n</blockquote><span style="background-color: transparent\; fo
 nt-size: 11pt\; white-space: pre\; font-family: arial\, sans-serif\; color
 : #000000\;">\n</span><br />\n<span style="font-size: 14.6667px\; white-sp
 ace-collapse: preserve-breaks\; font-family: arial\, sans-serif\; color: #
 000000\;"><em style="color: #333333\; font-family: &quot\;open sans&quot\;
 \, helvetica\, arial\, sans-serif\; text-align: center\;"><span id="docs-i
 nternal-guid-216ef6d0-7fff-5954-4284-b9954c07d5db">The 2026 Convening is t
 he annual gathering of the Council for Chief Online Learning Officers (C-C
 OLO). Attendance is free and limited to COLOs and Institutional Representa
 tives&nbsp\;<span style="text-decoration-line: none\; color: #ea9423\;"></
 span></span><a href="https://conferences.upcea.edu/SOLAR26/registration.ht
 ml" target="_blank"><span id="docs-internal-guid-216ef6d0-7fff-5954-4284-b
 9954c07d5db" style="text-decoration-line: none\; color: #ea9423\;">registe
 red for the 2026&nbsp\;</span><span style="text-decoration-line: none\; co
 lor: #ea9423\;">Summit for Online Leadership and Administration</span></a>
 <span style="text-decoration-line: none\; color: #ea9423\;"></span>. Each 
 UPCEA member institution has the opportunity to identify a COLO to represe
 nt them in the Council.&nbsp\;Registration for the Convening will close <s
 pan style="text-decoration: underline\;">Monday\, July 20</span>.</em><br 
 />\n</span>\n<ul style="margin-top: 0px\; margin-bottom: 0px\; padding-inl
 ine-start: 48px\;">\n    <ul style="margin-top: 0px\; margin-bottom: 0px\;
  padding-inline-start: 48px\;">\n    </ul>\n</ul>\n<span style="font-size:
  14px\; font-family: arial\;"><span style="font-size: 14px\;">\n<br />\n</
 span><span style="font-size: 14px\;"><strong><span style="color: #ff0000\;
 ">Registration for <a href="https://conferences.upcea.edu/SOLAR26/registra
 tion.html" target="_blank">2026 SOLAR</a> is required to register for the 
 C-COLO Convening.</span></strong><br />\n<br />\n<br />\n<strong><span sty
 le="font-size: 14px\;">\n*What is a Chief Online Learning Officer (COLO)</
 span></strong><br />\nA Chief Online Learning Officer (COLO) is the decisi
 on-maker for an online enterprise (whether at the unit\, college\, or inst
 itutional level). COLOs are accountable to the online enterprise and make 
 the decisions to advance the strategy\, leadership\, and vision of post-se
 condary online education. At the operational level\, a COLO makes the crit
 ical path decisions for an online enterprise (e.g. technology\, outsourcin
 g strategic enrollment management vs. building internal teams\, etc.). UPC
 EA recognizes there is diversity in such roles and decisions. COLOs are so
 metimes professional or continuing education deans with online in their po
 rtfolio\, while others are solely focused on online learning.<br />\n</spa
 n></span>\n<div><br />\n<br />\n</div>\n<span style="font-size: 14px\; fon
 t-family: arial\;">\nFor more information or for any questions please cont
 act info@upcea.edu.</span><span style="font-size: 14px\; font-family: aria
 l\;">\n</span>\n<p style="text-align: left\;"><span style="font-size: 14px
 \; font-family: arial\;"><em><br />\n</em></span></p>
END:VEVENT
END:VCALENDAR
