BEGIN:VCALENDAR
VERSION:2.0
PRODID:-//ddaysoftware.com//NONSGML DDay.iCal 1.0//EN
BEGIN:VEVENT
DTEND:20260501T040000Z
DTSTAMP:20260424T224339Z
DTSTART:20260330T040000Z
SEQUENCE:0
SUMMARY:Managing New Enrollments - from Prospective Student to Matriculant 
 - March 2026
UID:11d8a74c-dab6-43ef-9600-7fe641117458
X-ALT-DESC;FMTTYPE=text/html:<p><span style="text-decoration: underline\;">
 Course Title:&nbsp\;</span>Managing New Enrollments - from Prospective Stu
 dent to Matriculant</p>\n<ul style="margin-bottom: 0px\;">\n    <li>\n    
 <p><span style="font-size: 13px\;"><span style="font-size: 13px\;">Check o
 ut&nbsp\;</span><a href="https://elevate.upcea.edu/"><span style="font-siz
 e: 13px\;">other UPCEA Professional Development offerings</span></a><span 
 style="font-size: 13px\;">.</span></span></p>\n    </li>\n    <li>\n    <p
 ><a href="https://elevate.upcea.edu/faqs"><span style="font-size: 13px\;">
 Review our participant FAQ</span></a></p>\n    </li>\n    <li>\n    <p><sp
 an style="font-size: 13px\;"><span style="font-size: 13px\;">Read the&nbsp
 \;</span><a href="https://core.upcea.edu/codeofconduct"><span style="font-
 size: 13px\;">Code of Conduct</span></a><span style="font-size: 13px\;">&n
 bsp\;and our&nbsp\;</span><a href="https://upcea.edu/about/privacy-policy/
 "><span style="font-size: 13px\;">Privacy Policy</span></a></span></p>\n  
   </li>\n    <li>\n    <p><span style="font-size: 13px\;"><span style="fon
 t-size: 13px\;">Cancellation Policy:&nbsp\;</span><span style="font-size: 
 13px\;">Registrants who request cancellation by 5:00 pm EST on the Friday 
 after the course begins will have the option to transfer that registration
  one time to a colleague at their institution or to any other Online PD co
 urse offered within six months of cancellation. If no suitable offerings a
 re available within six months at the time of cancellation\, registrants c
 an request a refund of their registration fee minus a $50.00 administrativ
 e fee. No transfers or refunds will be available after the first week of t
 he course. Cancellation requests must be made in writing and sent to&nbsp\
 ;</span><span style="background-color: transparent\; text-decoration-line:
  underline\; font-variant-numeric: normal\; font-variant-east-asian: norma
 l\; text-decoration-skip-ink: none\; vertical-align: baseline\; white-spac
 e: pre-wrap\; font-size: 13px\; color: #1155cc\;"><a href="mailto:pd@upcea
 .edu">pd@upcea.edu</a></span></span></p>\n    </li>\n    <li>\n    <p><spa
 n style="font-size: 13px\;"><span style="font-size: 13px\;">Please direct 
 all additional questions to&nbsp\;</span><a href="mailto:pd@upcea.edu"><sp
 an style="font-size: 13px\;">pd@upcea.edu</span></a><span style="font-size
 : 13px\;">.</span></span></p>\n    </li>\n</ul>\n<p><span style="font-size
 : 13px\;"><strong>If you have not started the registration process\, go do
 wn and click "Register for this Event" below.&nbsp\;</strong></span></p>\n
 <p><span style="font-style: italic\; text-decoration-line: underline\; fon
 t-size: 13px\; color: #ff0000\;">You MUST click "Allow Cookies" in the bot
 tom left corner to access any links or areas of the member portal.</span><
 /p>\n<p><br />\n</p>
END:VEVENT
END:VCALENDAR
