BEGIN:VCALENDAR
VERSION:2.0
PRODID:-//ddaysoftware.com//NONSGML DDay.iCal 1.0//EN
BEGIN:VEVENT
DTEND:20260619T040000Z
DTSTAMP:20260424T224031Z
DTSTART:20260518T040000Z
SEQUENCE:0
SUMMARY:Credentials Beyond Degrees – the Role of Online and Professional Co
 ntinuing Educators in Credential Innovation - May 2026
UID:e8cf80d1-ade7-4818-9371-4fdb7cfeb202
X-ALT-DESC;FMTTYPE=text/html:<span id="docs-internal-guid-2b65c736-7fff-3e4
 d-0e75-4487a5dbec69">\n<p dir="ltr" style="line-height: 1.38\; margin-top:
  0pt\; margin-bottom: 13pt\;"><span style="font-size: 11pt\; background-co
 lor: transparent\; font-variant-numeric: normal\; font-variant-east-asian:
  normal\; text-decoration-line: underline\; text-decoration-skip-ink: none
 \; vertical-align: baseline\; white-space: pre-wrap\; font-family: arial\;
 ">Course Description</span><span style="font-size: 11pt\; background-color
 : transparent\; font-variant-numeric: normal\; font-variant-east-asian: no
 rmal\; vertical-align: baseline\; white-space: pre-wrap\; font-family: ari
 al\;">: <span style="font-family: &quot\;trebuchet ms&quot\;\, &quot\;helv
 etica neue&quot\;\, helvetica\, tahoma\, sans-serif\; font-size: 13px\; co
 lor: #666666\;">How do those in professional\, continuing\, and online edu
 cation analyze opportunities\, project revenue and expenses\, identify pru
 dent ways to manage resources\, monitor cash flow\, and mitigate financial
  disaster?&nbsp\; How do you measure success and respond to failure\, real
 locate resources\, and determine new investment opportunities?&nbsp\; Thos
 e in PCO often operate as a stand-alone business --&nbsp\; by relying on r
 evenue to support operating costs\, and depending on forecasting\, cash fl
 ow\, and&nbsp\; agile pivoting to new strategies. </span></span></p>\n<ul>
 \n    <li><span id="docs-internal-guid-2b65c736-7fff-3e4d-0e75-4487a5dbec6
 9"><span style="background-color: transparent\; font-size: 11pt\; font-var
 iant-numeric: normal\; font-variant-east-asian: normal\; vertical-align: b
 aseline\; white-space: pre-wrap\; font-family: arial\;">Check out </span><
 a href="https://elevate.upcea.edu/" style="background-color: transparent\;
  font-family: arial\; font-size: 11pt\; white-space: pre\; text-decoration
 -line: none\;"><span style="font-size: 11pt\; background-color: transparen
 t\; font-variant-numeric: normal\; font-variant-east-asian: normal\; text-
 decoration-line: underline\; text-decoration-skip-ink: none\; vertical-ali
 gn: baseline\; white-space: pre-wrap\;">other UPCEA Professional Developme
 nt offerings</span></a><span style="background-color: transparent\; font-s
 ize: 11pt\; font-variant-numeric: normal\; font-variant-east-asian: normal
 \; vertical-align: baseline\; white-space: pre-wrap\; font-family: arial\;
 ">.</span></span></li>\n    <li><span id="docs-internal-guid-2b65c736-7fff
 -3e4d-0e75-4487a5dbec69" style="background-color: transparent\; font-size:
  11pt\; white-space: pre-wrap\; text-decoration-line: underline\; font-var
 iant-numeric: normal\; font-variant-east-asian: normal\; text-decoration-s
 kip-ink: none\; vertical-align: baseline\; font-family: arial\; color: #11
 55cc\;"><a href="https://elevate.upcea.edu/faqs" style="background-color: 
 transparent\; font-family: arial\; font-size: 11pt\; white-space: pre\; te
 xt-decoration-line: none\;">Review our participant FAQ</a></span></li>\n  
   <li><span id="docs-internal-guid-2b65c736-7fff-3e4d-0e75-4487a5dbec69"><
 span style="background-color: transparent\; font-size: 11pt\; font-variant
 -numeric: normal\; font-variant-east-asian: normal\; vertical-align: basel
 ine\; white-space: pre-wrap\; font-family: arial\;">Read the </span><a hre
 f="https://core.upcea.edu/codeofconduct" style="background-color: transpar
 ent\; font-family: arial\; font-size: 11pt\; white-space: pre\; text-decor
 ation-line: none\;"><span style="font-size: 11pt\; background-color: trans
 parent\; font-variant-numeric: normal\; font-variant-east-asian: normal\; 
 text-decoration-line: underline\; text-decoration-skip-ink: none\; vertica
 l-align: baseline\; white-space: pre-wrap\; color: #1155cc\;">Code of Cond
 uct</span></a><span style="background-color: transparent\; font-size: 11pt
 \; font-variant-numeric: normal\; font-variant-east-asian: normal\; vertic
 al-align: baseline\; white-space: pre-wrap\; font-family: arial\;"> and ou
 r </span><span style="background-color: transparent\; font-size: 11pt\; wh
 ite-space: pre-wrap\; text-decoration-line: underline\; font-variant-numer
 ic: normal\; font-variant-east-asian: normal\; text-decoration-skip-ink: n
 one\; vertical-align: baseline\; font-family: arial\; color: #1155cc\;"><a
  href="https://upcea.edu/about/privacy-policy/" style="background-color: t
 ransparent\; font-family: arial\; font-size: 11pt\; white-space: pre\; tex
 t-decoration-line: none\;">Privacy Policy</a></span></span></li>\n    <li>
 <span id="docs-internal-guid-2b65c736-7fff-3e4d-0e75-4487a5dbec69"><span s
 tyle="background-color: transparent\; font-size: 11pt\; font-variant-numer
 ic: normal\; font-variant-east-asian: normal\; vertical-align: baseline\; 
 white-space: pre-wrap\; font-family: arial\; color: #000000\;">Refund Poli
 cy: </span><span style="background-color: transparent\; font-size: 11pt\; 
 font-variant-numeric: normal\; font-variant-east-asian: normal\; vertical-
 align: baseline\; white-space: pre-wrap\; font-family: arial\; color: #000
 000\;">Registrants who request to cancel their registration by 5:00 pm EST
  on the Friday after the course begins will have the option to transfer th
 at registration one time to a colleague at their institution or to any oth
 er Online PD course offered within six months of cancellation. If no suita
 ble offerings are available within six months at the time of cancellation\
 , registrants can request a refund of their registration fee minus a $50.0
 0 administrative fee. No transfers or refunds will be available after the 
 first week of the course. Cancellation requests must be made in writing an
 d sent to </span><span style="background-color: transparent\; font-size: 1
 1pt\; white-space: pre-wrap\; text-decoration-line: underline\; font-varia
 nt-numeric: normal\; font-variant-east-asian: normal\; text-decoration-ski
 p-ink: none\; vertical-align: baseline\; font-family: arial\; color: #1155
 cc\;"><a href="mailto:pd@upcea.edu" style="background-color: transparent\;
  font-family: arial\; font-size: 11pt\; white-space: pre\; text-decoration
 -line: none\;">pd@upcea.edu</a></span></span></li>\n</ul>\n<br />\n<br />\
 n<p dir="ltr" style="line-height: 1.38\; margin-top: 0pt\; margin-bottom: 
 0pt\;"><span style="font-size: 11pt\; background-color: transparent\; font
 -weight: 700\; font-style: italic\; font-variant-numeric: normal\; font-va
 riant-east-asian: normal\; vertical-align: baseline\; white-space: pre-wra
 p\; font-family: arial\;">If you have not started the registration process
 \, go down and click "Register for this Event" below.&nbsp\;</span></p>\n<
 br />\n<p dir="ltr" style="line-height: 1.38\; margin-top: 0pt\; margin-bo
 ttom: 0pt\;"><span style="font-size: 11pt\; background-color: transparent\
 ; font-style: italic\; font-variant-numeric: normal\; font-variant-east-as
 ian: normal\; text-decoration-line: underline\; text-decoration-skip-ink: 
 none\; vertical-align: baseline\; white-space: pre-wrap\; font-family: ari
 al\; color: #ff0000\;">You MUST click "Allow Cookies" in the bottom left c
 orner to access any links or areas of the member portal.</span></p>\n<div>
 <span style="font-size: 11pt\; background-color: transparent\; font-style:
  italic\; font-variant-numeric: normal\; font-variant-east-asian: normal\;
  text-decoration-line: underline\; text-decoration-skip-ink: none\; vertic
 al-align: baseline\; white-space: pre-wrap\; font-family: arial\; color: #
 ff0000\;"><br />\n</span></div>\n</span>
END:VEVENT
END:VCALENDAR
