BEGIN:VCALENDAR
VERSION:2.0
PRODID:-//ddaysoftware.com//NONSGML DDay.iCal 1.0//EN
BEGIN:VEVENT
DTEND:20260515T040000Z
DTSTAMP:20260424T224138Z
DTSTART:20260406T040000Z
SEQUENCE:0
SUMMARY:Developing Partnerships\, Programs\, and Pathways for Community Eng
 agement and Opportunity - March 2026
UID:c57ea0e4-293d-4476-aeee-7cc21a27dde5
X-ALT-DESC;FMTTYPE=text/html:<span id="docs-internal-guid-2b65c736-7fff-3e4
 d-0e75-4487a5dbec69">\n<p dir="ltr" style="line-height: 1.38\; margin-top:
  0pt\; margin-bottom: 13pt\;"><span style="font-size: 11pt\; background-co
 lor: transparent\; font-variant-numeric: normal\; font-variant-east-asian:
  normal\; text-decoration-line: underline\; text-decoration-skip-ink: none
 \; vertical-align: baseline\; white-space: pre-wrap\; font-family: arial\;
 ">Course Description</span><span style="font-size: 11pt\; background-color
 : transparent\; font-variant-numeric: normal\; font-variant-east-asian: no
 rmal\; vertical-align: baseline\; white-space: pre-wrap\; font-family: ari
 al\;">: <span id="docs-internal-guid-99dad824-7fff-c1bd-6391-d0274c8bb5ac"
  style="font-family: &quot\;trebuchet ms&quot\;\, &quot\;helvetica neue&qu
 ot\;\, helvetica\, tahoma\, sans-serif\; font-size: 13px\; color: #666666\
 ;"></span></span></p>\n<p dir="ltr" style="line-height: 1.38\; margin-top:
  12pt\; margin-bottom: 12pt\;"><span style="font-size: 12pt\; background-c
 olor: transparent\; font-variant-numeric: normal\; font-variant-east-asian
 : normal\; vertical-align: baseline\; white-space: pre-wrap\; font-family:
  arial\; color: #000000\;"></span></p>\n<p><span style="font-size: 12pt\; 
 background-color: transparent\; font-variant-numeric: normal\; font-varian
 t-east-asian: normal\; vertical-align: baseline\; white-space: pre-wrap\; 
 font-family: arial\; color: #000000\;">This course offers a pragmatic appr
 oach to the strategic development and implementation of online and profess
 ional continuing education initiatives aimed at expanding access and oppor
 tunity across communities. It will explore how institutions can address th
 e educational needs of historically underserved populations through though
 tful program design\, stakeholder collaboration\, and targeted outreach. T
 aking both comparative and national perspectives\, the course investigates
  how higher education can bridge workforce gaps through career exploration
 \, upskilling\, apprenticeship models\, and credential pathways.</span></p
 >\n<span style="font-size: 12pt\; background-color: transparent\; font-var
 iant-numeric: normal\; font-variant-east-asian: normal\; vertical-align: b
 aseline\; white-space: pre-wrap\; font-family: arial\; color: #000000\;">\
 n<p>Participants will examine the influential role of professional and onl
 ine education units in advancing initiatives that support both community i
 mpact and institutional sustainability. Through peer exchange and collabor
 ative exploration\, students will gain insights into effective practices i
 n program planning\, audience engagement\, and partner development.</p>\n<
 /span>\n<div><span style="font-size: 12pt\; background-color: transparent\
 ; font-variant-numeric: normal\; font-variant-east-asian: normal\; vertica
 l-align: baseline\; white-space: pre-wrap\; font-family: arial\; color: #0
 00000\;">\n</span></div>\n<ul>\n    <li><span id="docs-internal-guid-2b65c
 736-7fff-3e4d-0e75-4487a5dbec69"><span style="background-color: transparen
 t\; font-size: 11pt\; font-variant-numeric: normal\; font-variant-east-asi
 an: normal\; vertical-align: baseline\; white-space: pre-wrap\; font-famil
 y: arial\;">Check out </span><a href="https://elevate.upcea.edu/" style="b
 ackground-color: transparent\; font-family: arial\; font-size: 11pt\; whit
 e-space: pre\; text-decoration-line: none\;"><span style="font-size: 11pt\
 ; background-color: transparent\; font-variant-numeric: normal\; font-vari
 ant-east-asian: normal\; text-decoration-line: underline\; text-decoration
 -skip-ink: none\; vertical-align: baseline\; white-space: pre-wrap\;">othe
 r UPCEA Professional Development offerings</span></a><span style="backgrou
 nd-color: transparent\; font-size: 11pt\; font-variant-numeric: normal\; f
 ont-variant-east-asian: normal\; vertical-align: baseline\; white-space: p
 re-wrap\; font-family: arial\;">.</span></span></li>\n    <li><span id="do
 cs-internal-guid-2b65c736-7fff-3e4d-0e75-4487a5dbec69" style="background-c
 olor: transparent\; font-size: 11pt\; white-space: pre-wrap\; text-decorat
 ion-line: underline\; font-variant-numeric: normal\; font-variant-east-asi
 an: normal\; text-decoration-skip-ink: none\; vertical-align: baseline\; f
 ont-family: arial\; color: #1155cc\;"><a href="https://elevate.upcea.edu/f
 aqs" style="background-color: transparent\; font-family: arial\; font-size
 : 11pt\; white-space: pre\; text-decoration-line: none\;">Review our parti
 cipant FAQ</a></span></li>\n    <li><span id="docs-internal-guid-2b65c736-
 7fff-3e4d-0e75-4487a5dbec69"><span style="background-color: transparent\; 
 font-size: 11pt\; font-variant-numeric: normal\; font-variant-east-asian: 
 normal\; vertical-align: baseline\; white-space: pre-wrap\; font-family: a
 rial\;">Read the </span><a href="https://core.upcea.edu/codeofconduct" sty
 le="background-color: transparent\; font-family: arial\; font-size: 11pt\;
  white-space: pre\; text-decoration-line: none\;"><span style="font-size: 
 11pt\; background-color: transparent\; font-variant-numeric: normal\; font
 -variant-east-asian: normal\; text-decoration-line: underline\; text-decor
 ation-skip-ink: none\; vertical-align: baseline\; white-space: pre-wrap\; 
 color: #1155cc\;">Code of Conduct</span></a><span style="background-color:
  transparent\; font-size: 11pt\; font-variant-numeric: normal\; font-varia
 nt-east-asian: normal\; vertical-align: baseline\; white-space: pre-wrap\;
  font-family: arial\;"> and our </span><span style="background-color: tran
 sparent\; font-size: 11pt\; white-space: pre-wrap\; text-decoration-line: 
 underline\; font-variant-numeric: normal\; font-variant-east-asian: normal
 \; text-decoration-skip-ink: none\; vertical-align: baseline\; font-family
 : arial\; color: #1155cc\;"><a href="https://upcea.edu/about/privacy-polic
 y/" style="background-color: transparent\; font-family: arial\; font-size:
  11pt\; white-space: pre\; text-decoration-line: none\;">Privacy Policy</a
 ></span></span></li>\n    <li><span id="docs-internal-guid-2b65c736-7fff-3
 e4d-0e75-4487a5dbec69"><span style="background-color: transparent\; font-s
 ize: 11pt\; font-variant-numeric: normal\; font-variant-east-asian: normal
 \; vertical-align: baseline\; white-space: pre-wrap\; font-family: arial\;
  color: #000000\;">Refund Policy: </span><span style="background-color: tr
 ansparent\; font-size: 11pt\; font-variant-numeric: normal\; font-variant-
 east-asian: normal\; vertical-align: baseline\; white-space: pre-wrap\; fo
 nt-family: arial\; color: #000000\;">Registrants who request to cancel the
 ir registration by 5:00 pm EST on the Friday after the course begins will 
 have the option to transfer that registration one time to a colleague at t
 heir institution or to any other Online PD course offered within six month
 s of cancellation. If no suitable offerings are available within six month
 s at the time of cancellation\, registrants can request a refund of their 
 registration fee minus a $50.00 administrative fee. No transfers or refund
 s will be available after the first week of the course. Cancellation reque
 sts must be made in writing and sent to </span><span style="background-col
 or: transparent\; font-size: 11pt\; white-space: pre-wrap\; text-decoratio
 n-line: underline\; font-variant-numeric: normal\; font-variant-east-asian
 : normal\; text-decoration-skip-ink: none\; vertical-align: baseline\; fon
 t-family: arial\; color: #1155cc\;"><a href="mailto:pd@upcea.edu" style="b
 ackground-color: transparent\; font-family: arial\; font-size: 11pt\; whit
 e-space: pre\; text-decoration-line: none\;">pd@upcea.edu</a></span></span
 ></li>\n</ul>\n<br />\n<br />\n<p dir="ltr" style="line-height: 1.38\; mar
 gin-top: 0pt\; margin-bottom: 0pt\;"><span style="font-size: 11pt\; backgr
 ound-color: transparent\; font-weight: 700\; font-style: italic\; font-var
 iant-numeric: normal\; font-variant-east-asian: normal\; vertical-align: b
 aseline\; white-space: pre-wrap\; font-family: arial\;">If you have not st
 arted the registration process\, go down and click "Register for this Even
 t" below.&nbsp\;</span></p>\n<br />\n<p dir="ltr" style="line-height: 1.38
 \; margin-top: 0pt\; margin-bottom: 0pt\;"><span style="font-size: 11pt\; 
 background-color: transparent\; font-style: italic\; font-variant-numeric:
  normal\; font-variant-east-asian: normal\; text-decoration-line: underlin
 e\; text-decoration-skip-ink: none\; vertical-align: baseline\; white-spac
 e: pre-wrap\; font-family: arial\; color: #ff0000\;">You MUST click "Allow
  Cookies" in the bottom left corner to access any links or areas of the me
 mber portal.</span></p>\n<div><span style="font-size: 11pt\; background-co
 lor: transparent\; font-style: italic\; font-variant-numeric: normal\; fon
 t-variant-east-asian: normal\; text-decoration-line: underline\; text-deco
 ration-skip-ink: none\; vertical-align: baseline\; white-space: pre-wrap\;
  font-family: arial\; color: #ff0000\;"><br />\n</span></div>\n</span>
END:VEVENT
END:VCALENDAR
