BEGIN:VCALENDAR
VERSION:2.0
PRODID:-//ddaysoftware.com//NONSGML DDay.iCal 1.0//EN
BEGIN:VEVENT
DTEND:20220414T180000Z
DTSTAMP:20260424T190438Z
DTSTART:20220411T160000Z
LOCATION:1000 Buena Vista Drive  Lake Buena Vista\, FL 32830 US
SEQUENCE:0
SUMMARY:2022 UPCEA Annual Conference
UID:0af0d03b-6f3e-440e-bea7-301ac9a3ed73
X-ALT-DESC;FMTTYPE=text/html:<p><strong><span style="font-size: 14px\;">The
  2022 UPCEA Annual Conference is being held at Disney's Coronado Springs l
 ocated at:</span><br />\n</strong></p>\n<p><span style="font-size: 11pt\; 
 font-family: verdana\;"><span style="font-size: 11pt\;">1000 Buena Vista D
 rive<br />\nLake Buena Vista\, FL</span>&nbsp\; 32830</span>  </p>\n<table
  style="margin-left: 0.1in\; margin-right: 0.1in\;" cellspacing="0" cellpa
 dding="0" border="1" align="left">\n    <tbody>\n        <tr>\n           
  <td style="padding: 0in\;" align="center"><br />\n            </td>\n    
         <td style="padding: 0in\;" align="center">\n            <p><strong
 >Early Registration Fee (by Feb. 14)</strong></p>\n            </td>\n    
         <td style="padding: 0in\;" align="center">\n            <p><strong
 >Registration Fee<br />\n            (by March 14)</strong></p>\n         
    </td>\n            <td style="padding: 0in\;" align="center">\n        
     <p><strong>Late Registration Fee (after March 14)&nbsp\;</strong></p>\
 n            </td>\n            <td style="padding: 0in\;" align="center">
 \n            <p><strong><g class="gr_ gr_96 gr-alert gr_spell gr_inline_c
 ards gr_run_anim ContextualSpelling ins-del multiReplace" id="96" data-gr-
 id="96">On-Site</g> Registration Fee</strong></p>\n            </td>\n    
     </tr>\n        <tr>\n            <td style="padding: 0in\;" align="cen
 ter">\n            <p>Member&nbsp\;</p>\n            </td>\n            <t
 d style="padding: 0in\;" align="center">\n            <p>$990</p>\n       
      </td>\n            <td style="padding: 0in\;" align="center">\n      
       <p>$1040</p>\n            </td>\n            <td style="padding: 0in
 \;" align="center">\n            <p>$1090</p>\n            </td>\n        
     <td style="padding: 0in\;" align="center">\n            <p>$1140</p>\n
             </td>\n        </tr>\n        <tr>\n            <td style="pad
 ding: 0in\;" align="center">Member:<strong><br />\n            Summit plus
  Annual Conference<br />\n            Discounted Package</strong>*</td>\n 
            <td style="padding: 0in\;" align="center">&nbsp\;$1190</td>\n  
           <td style="padding: 0in\;" align="center">&nbsp\;$1240</td>\n   
          <td style="padding: 0in\;" align="center">&nbsp\;$1290</td>\n    
         <td style="padding: 0in\;" align="center">$1340 <br />\n          
   </td>\n        </tr>\n        <tr>\n            <td style="padding: 0in\
 ;" align="center">\n            <p>Institutional or Exhibiting <br />\n   
          Non-member</p>\n            </td>\n            <td style="padding
 : 0in\;" align="center">\n            <p>$1300</p>\n            </td>\n   
          <td style="padding: 0in\;" align="center">\n            <p>$1400<
 /p>\n            </td>\n            <td style="padding: 0in\;" align="cent
 er">\n            <p>$1500</p>\n            </td>\n            <td style="
 padding: 0in\;" align="center">\n            <p>$1600</p>\n            </t
 d>\n        </tr>\n        <tr>\n            <td style="padding: 0in\;" al
 ign="center">&nbsp\;Institutional or Exhibiting <br />\n            Non-me
 mber:<strong><br />\n            Summit plus Annual Conference Discounted 
 Package*</strong></td>\n            <td style="padding: 0in\;" align="cent
 er">&nbsp\;$1550</td>\n            <td style="padding: 0in\;" align="cente
 r">&nbsp\;$1650</td>\n            <td style="padding: 0in\;" align="center
 ">$1750 <br />\n            </td>\n            <td style="padding: 0in\;" 
 align="center">&nbsp\;$1850</td>\n        </tr>\n        <tr>\n           
  <td style="padding: 0in\;">\n            <p style="text-align: center\;">
 Corporate Non-member\, not exhibiting</p>\n            </td>\n            
 <td style="padding: 0in\;">\n            <p style="text-align: center\;">$
 2000</p>\n            </td>\n            <td style="padding: 0in\;">\n    
         <p style="text-align: center\;">$2100</p>\n            </td>\n    
         <td style="padding: 0in\;">\n            <p style="text-align: cen
 ter\;">$2200</p>\n            </td>\n            <td style="padding: 0in\;
 ">\n            <p style="text-align: center\;">$2300</p>\n            </t
 d>\n        </tr>\n        <tr>\n            <td style="padding: 0in\;" al
 ign="center"><strong> </strong>Corporate Non-member\, not exhibiting:<stro
 ng><br />\n            Summit plus Annual Conference<br />\n            Di
 scounted Package</strong>*</td>\n            <td style="padding: 0in\;" al
 ign="center">$2250 <br />\n            </td>\n            <td style="paddi
 ng: 0in\;" align="center">&nbsp\;$2350</td>\n            <td style="paddin
 g: 0in\;" align="center">&nbsp\;$2450</td>\n            <td style="padding
 : 0in\;" align="center">&nbsp\;$2550</td>\n        </tr>\n    </tbody>\n</
 table>\n<p><strong>&nbsp\; *<em>Registration for the <a href="https://conf
 erences.upcea.edu/SOLAR22/" target="_blank">2022 Summit for Online Leaders
 hip and Administration\, occurring April 11 - 12</a> has reached capacity.
 &nbsp\; To add yourself to the wait list\, email info@upcea.edu.</em></str
 ong> &nbsp\; &nbsp\; &nbsp\; &nbsp\; &nbsp\; &nbsp\; &nbsp\; &nbsp\; &nbsp
 \; &nbsp\; &nbsp\; &nbsp\; &nbsp\; &nbsp\; &nbsp\; &nbsp\; &nbsp\; &nbsp\;
  &nbsp\; &nbsp\; &nbsp\; &nbsp\; &nbsp\; &nbsp\; &nbsp\; &nbsp\; &nbsp\; &
 nbsp\; </p>\n<strong>\n<p><em><span style="text-decoration: underline\;">T
 o register multiple people from the same institution</span>\, click on "Ma
 nage Group Registration" below.&nbsp\;&nbsp\;</em> </p>\nRegistration &amp
 \; Fees&nbsp\;&nbsp\;&nbsp\;&nbsp\;&nbsp\;&nbsp\;&nbsp\;&nbsp\;&nbsp\;&nbs
 p\; </strong><br />\n<strong><em>Your registration will not be complete un
 til you have both completed the registration form and paid.&nbsp\;</em></s
 trong>\n<p>To attend the 2022 UPCEA Annual Conference and take advantage o
 f the Early Registration Fee\, you must fill out the online registration f
 orm and pay the registration fee by February 14\, 2022. </p>\n<p>The Regul
 ar Registration Fee will apply beginning February 15\, 2022 and ending Mar
 ch 14\, 2022. To attend the 2022 Annual Conference and take advantage of t
 he Regular Registration Fee\, you must fill out the online registration fo
 rm and pay the registration fee by March 14\, 2022. The Late Registration 
 Fee will apply beginning March 15\, 2022. Payment for the full amount of t
 he Late Registration Fee must be made by April 10\, 2022.&nbsp\; The On-Si
 te Registration Fee will apply as of the first day of the conference (Apri
 l 11\, 2022).&nbsp\;&nbsp\;</p>\n<br />\n<strong>Event Description<br />\n
 </strong>\n<p>The <strong>UPCEA Annual Conference</strong> is the most sig
 nificant assembly of thought leaders and practitioners today in the field 
 of professional\, continuing\, and online education. Join us April 11-14 i
 n Orlando for engaging keynote speakers\, high-energy concurrent sessions\
 , and plentiful networking opportunities.<br />\n<br />\nThe Annual Confer
 ence convenes deans and other senior university leaders\, key staff\, and 
 teams responsible for the management\, administration\, and growth of prof
 essional\, continuing\, and online education programs. Attendees have acce
 ss to targeted sessions spanning the top areas of practice in our field (a
 ligned with UPCEA's six professional Networks)\, led by higher education e
 xperts and colleagues.<br />\n<br />\nAttendees will also find targeted se
 ssions on the most pressing topics in the field today - including federal 
 policy\, finance and operations\, marketing and enrollment management\, in
 structional design\, noncredit programs\, alternative credentialing\, and 
 more.<br />\n<br />\n<strong data-stringify-type="bold">Health and Safety<
 /strong><br />\nUPCEA follows all Centers for Disease Control and Preventi
 on (CDC)\, state\, local\, and venue guidelines.</p>\n<p><strong>Refunds</
 strong><br />\nAll registration cancellation and refund requests must be m
 ade in writing.&nbsp\; Full refunds will be granted for cancellations rece
 ived by February 14\, 2022.&nbsp\; A refund of the conference fee\, minus 
 a $75 administrative fee\, will be given for cancellations received betwee
 n February 15 &ndash\; March 14\, 2022.&nbsp\; No refunds or credits will 
 be granted for cancellations after March 14\, 2022. Please submit all requ
 ests to Jacqueline Romero at <a href="mailto:jromero@upcea.edu">jromero@up
 cea.edu</a>. Anyone who is registered but cannot attend may send a substit
 ute from the same organization. Refunds will not be given for no-shows.&nb
 sp\; <strong>Please note that all cancellation fees apply even if the init
 ial invoice has yet to be paid.</strong></p>\n<p><strong>Conference Photo 
 Policy</strong><br />\nRegistrants of the 2022 UPCEA Annual Conference agr
 ee to allow UPCEA and its official photographer to photograph them in the 
 context of the conference. Footage captured by the official photographer m
 ay be used in future print and electronic promotional and archival materia
 ls. For questions or concerns\, please call 202.659.3130 or email&nbsp\;<a
  href="mailto:info@upcea.edu">info@upcea.edu</a>.</p>\n<p> </p>\n<p><stron
 g>Affiliated Events Policy</strong><br />\nThe association has gone to gre
 at lengths and expense to negotiate and contract for a reduced room rate a
 t conference hotels.&nbsp\;That rate is based upon the projected attendanc
 e at the meeting.&nbsp\;If <g class="gr_ gr_99 gr-alert gr_gramm gr_inline
 _cards gr_run_anim Grammar only-ins replaceWithoutSep" id="99" data-gr-id=
 "99">corporate</g> member and <g class="gr_ gr_98 gr-alert gr_spell gr_inl
 ine_cards gr_run_anim ContextualSpelling ins-del" id="98" data-gr-id="98">
 nonmember</g> attendees elect to stay at other hotels\, it subjects the as
 sociation to attrition penalties that can cause significant financial loss
  to the association.&nbsp\;We count on our corporate community to support 
 the association\, and one of the ways to do that is to honor our efforts t
 o secure a sufficiently large room block at a reduced rate at a first clas
 s hotel/conference venue. &nbsp\;&nbsp\;</p>\n<p> </p>\n<p> </p>\n<p>For t
 hese reasons\, corporate member and <g class="gr_ gr_107 gr-alert gr_spell
  gr_inline_cards gr_run_anim ContextualSpelling ins-del" id="107" data-gr-
 id="107">nonmember</g> attendees are prohibited from holding any meetings 
 (briefings\, seminars\, etc.) within a 25-mile radius\, targeting professi
 onal\, continuing\, and online leaders in higher education during the sche
 duled hours of UPCEA events unless otherwise negotiated and scheduled with
  and by UPCEA. Any such meeting occurring within 36 hours before or after 
 the UPCEA conference must be coordinated with UPCEA and\, space permitting
 \, be held at the conference hotel.&nbsp\; This policy helps ensure that t
 he association&rsquo\;s contracted obligations to the hotel for guest room
 s and food and beverage minimums are met\, which is essential for the fina
 ncial health of the association and its members. If UPCEA cannot find spac
 e for the corporate member or <g class="gr_ gr_109 gr-alert gr_spell gr_in
 line_cards gr_run_anim ContextualSpelling ins-del" id="109" data-gr-id="10
 9">nonmember</g> attendee&rsquo\;s event at the contracted hotel\, we will
  work to help find alternative space.&nbsp\; In no circumstances\, however
 \, is it permissible for a corporate member or nonmember attendee to contr
 act a separate hotel block\, either at the conference hotel or elsewhere.&
 nbsp\; </p>\n<p> </p>\n<p> </p>\n<p> </p>\n<p>UPCEA reserves the right to 
 prohibit corporate member and <g class="gr_ gr_93 gr-alert gr_spell gr_inl
 ine_cards gr_run_anim ContextualSpelling ins-del" id="93" data-gr-id="93">
 nonmember</g> attendees who violate this policy from exhibiting or partici
 pating at UPCEA events.</p>\n<p><strong><em><br />\nIf you encounter any e
 rrors or&nbsp\;need assistance with your registration\, please contact us 
 at 202-659-3130 or&nbsp\;</em></strong><a href="mailto:jromero@upcea.edu">
 <strong><em></em></strong>jromero@upcea.edu<strong><em></em></strong></a><
 strong><em>.</em></strong></p>
END:VEVENT
END:VCALENDAR
