BEGIN:VCALENDAR
VERSION:2.0
PRODID:-//ddaysoftware.com//NONSGML DDay.iCal 1.0//EN
BEGIN:VEVENT
DTEND:20260807T040000Z
DTSTAMP:20260424T224204Z
DTSTART:20260706T040000Z
SEQUENCE:0
SUMMARY:Overview of Online and Professional Continuing Education - July 202
 6
UID:b961ea19-1e63-4c30-9dbb-726bb6e6c314
X-ALT-DESC;FMTTYPE=text/html:<span id="docs-internal-guid-8b897ce5-7fff-663
 b-3d22-e0c585e8d758">\n<p dir="ltr" style="line-height: 1.38\; margin-top:
  0pt\; margin-bottom: 13pt\;"><span style="font-size: 11pt\; background-co
 lor: transparent\; font-variant-numeric: normal\; font-variant-east-asian:
  normal\; text-decoration-line: underline\; text-decoration-skip-ink: none
 \; vertical-align: baseline\; white-space: pre-wrap\; font-family: arial\;
 ">Course Title</span><span style="font-size: 11pt\; background-color: tran
 sparent\; font-variant-numeric: normal\; font-variant-east-asian: normal\;
  vertical-align: baseline\; white-space: pre-wrap\; font-family: arial\;">
 : </span></p>\n<p dir="ltr" style="line-height: 1.38\; margin-top: 0pt\; m
 argin-bottom: 13pt\;"><span style="font-size: 11pt\; background-color: tra
 nsparent\; font-variant-numeric: normal\; font-variant-east-asian: normal\
 ; vertical-align: baseline\; white-space: pre-wrap\; font-family: arial\;"
 >Orientation to Professional\, Continuing\, and Online Education (PCO)</sp
 an></p>\n<p dir="ltr" style="line-height: 1.38\; margin-top: 0pt\; margin-
 bottom: 13pt\;"><span style="font-size: 11pt\; background-color: transpare
 nt\; font-variant-numeric: normal\; font-variant-east-asian: normal\; text
 -decoration-line: underline\; text-decoration-skip-ink: none\; vertical-al
 ign: baseline\; white-space: pre-wrap\; font-family: arial\;">Course Descr
 iption</span><span style="font-size: 11pt\; background-color: transparent\
 ; font-variant-numeric: normal\; font-variant-east-asian: normal\; vertica
 l-align: baseline\; white-space: pre-wrap\; font-family: arial\;">: <span 
 id="docs-internal-guid-960a222b-7fff-a33e-4389-1018c6d76c3f"></span></span
 ></p>\n<p dir="ltr" style="line-height: 1.38\; margin-top: 0pt\; margin-bo
 ttom: 0pt\;"><span style="font-size: 11pt\; background-color: transparent\
 ; font-variant-numeric: normal\; font-variant-east-asian: normal\; vertica
 l-align: baseline\; white-space: pre-wrap\; font-family: arial\; color: #0
 00000\;">What are the various ways universities organize and empower their
  units for professional\, continuing\, and online education?&nbsp\; What a
 re some unique features and approaches within these entities\, particularl
 y in how they address the educational needs of adult learners? This module
  provides a broad understanding of the variety of roles and models for pro
 fessional\, continuing\, and online education across the academic landscap
 e -- and the issues and opportunities they face. This module also looks at
  internal organizational structures\, skill sets\, and staffing. Finally\,
  this module discusses professionalism and the role that UPCEA plays in ne
 tworking and educating those in this domain.</span></p>\n</span>\n<p><span
  style="font-size: 14.6667px\; white-space: pre-wrap\; font-family: arial\
 ; color: #000000\;"><br />\n</span></p>\n<ul style="margin-bottom: 0px\;">
 \n    <li><span id="docs-internal-guid-8b897ce5-7fff-663b-3d22-e0c585e8d75
 8"><span style="background-color: transparent\; font-size: 11pt\; font-var
 iant-numeric: normal\; font-variant-east-asian: normal\; vertical-align: b
 aseline\; white-space: pre-wrap\; font-family: arial\;">Check out </span><
 a href="https://elevate.upcea.edu/" style="background-color: transparent\;
  font-family: arial\; font-size: 11pt\; white-space: pre\;"><span style="f
 ont-size: 11pt\; background-color: transparent\; font-variant-numeric: nor
 mal\; font-variant-east-asian: normal\; text-decoration-skip-ink: none\; v
 ertical-align: baseline\; white-space: pre-wrap\;">other UPCEA Professiona
 l Development offerings</span></a><span style="background-color: transpare
 nt\; font-size: 11pt\; font-variant-numeric: normal\; font-variant-east-as
 ian: normal\; vertical-align: baseline\; white-space: pre-wrap\; font-fami
 ly: arial\;">.</span></span></li>\n    <li><span id="docs-internal-guid-8b
 897ce5-7fff-663b-3d22-e0c585e8d758"><a href="https://elevate.upcea.edu/faq
 s" style="background-color: transparent\; font-family: arial\; font-size: 
 11pt\; white-space: pre\;"><span style="font-size: 11pt\; background-color
 : transparent\; font-variant-numeric: normal\; font-variant-east-asian: no
 rmal\; text-decoration-skip-ink: none\; vertical-align: baseline\; white-s
 pace: pre-wrap\; color: #1155cc\;">Review our participant FAQ</span></a></
 span></li>\n    <li><span id="docs-internal-guid-8b897ce5-7fff-663b-3d22-e
 0c585e8d758"><span style="background-color: transparent\; font-variant-num
 eric: normal\; font-variant-east-asian: normal\; font-size: 11pt\; vertica
 l-align: baseline\; white-space: pre-wrap\; font-family: arial\;">Read the
  </span><a href="https://core.upcea.edu/codeofconduct" style="background-c
 olor: transparent\; font-family: arial\; font-size: 11pt\; white-space: pr
 e\;"><span style="font-size: 11pt\; background-color: transparent\; font-v
 ariant-numeric: normal\; font-variant-east-asian: normal\; text-decoration
 -skip-ink: none\; vertical-align: baseline\; white-space: pre-wrap\; color
 : #1155cc\;">Code of Conduct</span></a><span style="background-color: tran
 sparent\; font-variant-numeric: normal\; font-variant-east-asian: normal\;
  font-size: 11pt\; vertical-align: baseline\; white-space: pre-wrap\; font
 -family: arial\;"> and our </span><a href="https://upcea.edu/about/privacy
 -policy/" style="background-color: transparent\; font-family: arial\; font
 -size: 11pt\; white-space: pre\;"><span style="font-size: 11pt\; backgroun
 d-color: transparent\; font-variant-numeric: normal\; font-variant-east-as
 ian: normal\; text-decoration-skip-ink: none\; vertical-align: baseline\; 
 white-space: pre-wrap\; color: #1155cc\;">Privacy Policy</span></a></span>
 </li>\n    <li><span id="docs-internal-guid-8b897ce5-7fff-663b-3d22-e0c585
 e8d758"><span style="background-color: transparent\; font-size: 11pt\; fon
 t-variant-numeric: normal\; font-variant-east-asian: normal\; vertical-ali
 gn: baseline\; white-space: pre-wrap\; font-family: arial\; color: #000000
 \;">Refund Policy: </span><span style="background-color: transparent\; fon
 t-size: 11pt\; font-variant-numeric: normal\; font-variant-east-asian: nor
 mal\; vertical-align: baseline\; white-space: pre-wrap\; font-family: aria
 l\; color: #000000\;">Registrants who request to cancel their registration
  by 5:00 pm EST on the Friday after the course begins will have the option
  to transfer that registration one time to a colleague at their institutio
 n or to any other Online PD course offered within six months of cancellati
 on. If no suitable offerings are available within six months at the time o
 f cancellation\, registrants can request a refund of their registration fe
 e minus a $50.00 administrative fee. No transfers or refunds will be avail
 able after the first week of the course. Cancellation requests must be mad
 e in writing and sent to </span><a href="mailto:pd@upcea.edu" style="backg
 round-color: transparent\; font-family: arial\; font-size: 11pt\; white-sp
 ace: pre\;"><span style="font-size: 11pt\; font-variant-numeric: normal\; 
 font-variant-east-asian: normal\; text-decoration-skip-ink: none\; vertica
 l-align: baseline\; white-space: pre-wrap\; color: #1155cc\;">pd@upcea.edu
 </span></a></span></li>\n</ul>\n<span style="background-color: transparent
 \; font-size: 11pt\; white-space: pre\; font-family: arial\; color: #00000
 0\;">\n</span><span style="font-size: 11pt\; background-color: transparent
 \; font-variant-numeric: normal\; font-variant-east-asian: normal\; vertic
 al-align: baseline\; white-space: pre-wrap\;">Please direct all additional
  questions to </span><a href="mailto:pd@upcea.edu"><span style="font-size:
  11pt\; background-color: transparent\; font-variant-numeric: normal\; fon
 t-variant-east-asian: normal\; text-decoration-skip-ink: none\; vertical-a
 lign: baseline\; white-space: pre-wrap\; color: #1155cc\;">pd@upcea.edu</s
 pan></a><span style="background-color: transparent\; font-size: 11pt\; whi
 te-space: pre\; font-family: arial\; color: #000000\;">\n</span><br />\n<u
 l style="margin-bottom: 0px\;">\n</ul>\n<br />\n<br />\n<p dir="ltr" style
 ="line-height: 1.38\; margin-top: 0pt\; margin-bottom: 0pt\;"><span style=
 "font-size: 11pt\; background-color: transparent\; font-weight: 700\; font
 -style: italic\; font-variant-numeric: normal\; font-variant-east-asian: n
 ormal\; vertical-align: baseline\; white-space: pre-wrap\; font-family: ar
 ial\;">If you have not started the registration process\, go down and clic
 k "Register for this Event" below.&nbsp\;</span></p>\n<br />\n<p dir="ltr"
  style="line-height: 1.38\; margin-top: 0pt\; margin-bottom: 0pt\;"><span 
 style="font-size: 11pt\; background-color: transparent\; font-style: itali
 c\; font-variant-numeric: normal\; font-variant-east-asian: normal\; text-
 decoration-line: underline\; text-decoration-skip-ink: none\; vertical-ali
 gn: baseline\; white-space: pre-wrap\; font-family: arial\; color: #ff0000
 \;">You MUST click "Allow Cookies" in the bottom left corner to access any
  links or areas of the member portal.</span></p>\n<div><span style="font-s
 ize: 11pt\; background-color: transparent\; font-style: italic\; font-vari
 ant-numeric: normal\; font-variant-east-asian: normal\; text-decoration-li
 ne: underline\; text-decoration-skip-ink: none\; vertical-align: baseline\
 ; white-space: pre-wrap\; font-family: arial\; color: #ff0000\;"><br />\n<
 /span></div>
END:VEVENT
END:VCALENDAR
