BEGIN:VCALENDAR
VERSION:2.0
PRODID:-//ddaysoftware.com//NONSGML DDay.iCal 1.0//EN
BEGIN:VEVENT
DTEND:20220414T160000Z
DTSTAMP:20260424T193754Z
DTSTART:20220411T210000Z
LOCATION:1000 Buena Vista Drive  Lake Buena Vista\, FL 32830 US
SEQUENCE:0
SUMMARY:Exhibit at the 2022 UPCEA Annual Conference
UID:6607f79f-6bbb-46b8-9fe3-31f23c2caa2d
X-ALT-DESC;FMTTYPE=text/html:<p><strong><span style="font-size: 14px\; font
 -family: calibri\, sans-serif\;">2022 UPCEA Annual Conference</span></stro
 ng><br />\nDate: April 11-14\, 2022<br />\nLocation: Disney's Coronado Spr
 ings - Orlando\, FL<br />\n&nbsp\;<br />\nRegistering for a booth only res
 erves a spot on the exhibit floor. Booth space location requests will only
  be assigned once payment is received in full to UPCEA and once the exhibi
 t hall layout has been created.&nbsp\;The following&nbsp\;exhibitor&nbsp\;
 <a href="http://conferences.upcea.edu/annual2022/exhibiting.html" style="o
 utline: currentcolor none medium\;">rules and regulations</a>&nbsp\;supple
 ment the Online Registration to Contract for Exhibit Space at the Conferen
 ce. By completing the above Online Registration to Contract for Exhibit Sp
 ace\, the exhibitor agrees to be bound by and adhere to the following term
 s\, rules and regulations and all amendments thereto and decisions of UPCE
 A and the host hotel.</p>\n<p style="margin-bottom: 12.75pt\;">If you have
  any questions regarding exhibiting\, please contact Brandan Kaiser at 202
 -844-4242 or <a href="mailto:bkaiser@upcea.edu">bkaiser@upcea.edu</a>.<br 
 />\n<br />\n</p>\n<table style="border-collapse: collapse\; border: medium
  none\;" cellspacing="0" cellpadding="0" border="1">\n    <tbody>\n       
  <tr>\n            <td style="width: 163.55pt\; border: 1pt solid windowte
 xt\; padding: 0in 5.4pt\;" valign="top">\n            <p><strong>Registrat
 ion Type&nbsp\;&nbsp\;&nbsp\;&nbsp\;&nbsp\; &nbsp\;&nbsp\;&nbsp\;&nbsp\;&n
 bsp\; &nbsp\;&nbsp\;&nbsp\;&nbsp\;&nbsp\;&nbsp\;&nbsp\;&nbsp\;&nbsp\;&nbsp
 \;&nbsp\;&nbsp\;&nbsp\;&nbsp\;&nbsp\;</strong></p>\n            </td>\n   
          <td style="width: 49.4pt\; border-width: 1pt 1pt 1pt medium\; bor
 der-style: solid solid solid none\; border-color: windowtext windowtext wi
 ndowtext currentcolor\; border-image: none 100% / 1 / 0 stretch\; padding:
  0in 5.4pt\;" valign="top">\n            <p><strong>Price&nbsp\;</strong><
 /p>\n            </td>\n        </tr>\n        <tr>\n            <td style
 ="width: 163.55pt\; border-width: medium 1pt 1pt\; border-style: none soli
 d solid\; border-color: currentcolor windowtext windowtext\; border-image:
  none 100% / 1 / 0 stretch\; padding: 0in 5.4pt\;" valign="top">\n        
     <p>Member&nbsp\; &nbsp\; &nbsp\; &nbsp\; &nbsp\; &nbsp\; &nbsp\; &nbsp
 \; &nbsp\; &nbsp\; &nbsp\;</p>\n            </td>\n            <td style="
 width: 49.4pt\; border-width: medium 1pt 1pt medium\; border-style: none s
 olid solid none\; border-color: currentcolor windowtext windowtext current
 color\; padding: 0in 5.4pt\;" valign="top">\n            <p>$3\,600 by Jan
 uary 14\, 2022\; $3\,800 after</p>\n            </td>\n        </tr>\n    
     <tr>\n            <td style="width: 163.55pt\; border-width: medium 1p
 t 1pt\; border-style: none solid solid\; border-color: currentcolor window
 text windowtext\; border-image: none 100% / 1 / 0 stretch\; padding: 0in 5
 .4pt\;" valign="top">\n            <p>Non-Member&nbsp\;&nbsp\;&nbsp\; &nbs
 p\;&nbsp\;&nbsp\;&nbsp\;&nbsp\;&nbsp\;&nbsp\;&nbsp\;&nbsp\;&nbsp\;&nbsp\;&
 nbsp\;&nbsp\;&nbsp\;&nbsp\;&nbsp\;&nbsp\;&nbsp\;&nbsp\;&nbsp\;&nbsp\;&nbsp
 \;&nbsp\;&nbsp\;&nbsp\;&nbsp\;&nbsp\;&nbsp\;&nbsp\;&nbsp\;</p>\n          
   </td>\n            <td style="width: 49.4pt\; border-width: medium 1pt 1
 pt medium\; border-style: none solid solid none\; border-color: currentcol
 or windowtext windowtext currentcolor\; padding: 0in 5.4pt\;" valign="top"
 >\n            <p>$5\,200 by January 14\, 2022\; $5\,400 after</p>\n      
       </td>\n        </tr>\n    </tbody>\n</table>\n<p> Note: Prices inclu
 de two (2) full conference attendee registrations.&nbsp\; Additional regis
 trations can be purchased at the corporate member or non-member attendee r
 egistration rate.<br />\n<br />\n</p>\n<p><strong>Refunds</strong><br />\n
 All registration cancellation and refund requests must be made in writing.
 &nbsp\; A 40% refund will be granted for cancellations received by January
  31\, 2022. No refunds or credits will be granted for cancellations after 
 January 31\, 2022. Please submit all requests to Brandan Kaiser at&nbsp\;<
 a href="mailto:bkaiser@upcea.edu">bkaiser@upcea.edu</a>. Refunds will not 
 be given for no-shows.&nbsp\;&nbsp\;<strong>Please note that all cancellat
 ion fees apply even if initial invoice has yet to be paid.</strong></p>\n<
 p> </p>\n<p><strong><em>If you encounter any errors or&nbsp\;need assistan
 ce with your registration\, please contact us at 202-659-3130 or&nbsp\;</e
 m></strong><a href="mailto:bkaiser@upcea.edu">bkaiser@upcea.edu</a><strong
 ><em>.</em></strong></p>
END:VEVENT
END:VCALENDAR
