BEGIN:VCALENDAR
VERSION:2.0
PRODID:-//ddaysoftware.com//NONSGML DDay.iCal 1.0//EN
BEGIN:VEVENT
DTEND:20211021T160000Z
DTSTAMP:20260425T184130Z
DTSTART:20211018T160000Z
SEQUENCE:0
SUMMARY:UPCEA 2021 Regions Week
UID:b5a6c521-2945-4fd6-81a3-655eb63a9f13
X-ALT-DESC;FMTTYPE=text/html:<span style="font-size: 10pt\; font-family: ar
 ial\, sans-serif\;">UPCEA&rsquo\;s <a href="https://conferences.upcea.edu/
 regions-week-2021" target="_blank">2021 Regions Week</a> is being held vir
 tually October 18-21\, 2021.<br />\n<br />\n</span><span style="font-size:
  11px\;"><span style="font-family: arial\; font-size: 13px\;"><strong><spa
 n style="font-size: 13px\;">Registration &amp\; Fees</span></strong></span
 ><span style="font-size: 11px\; font-family: arial\, sans-serif\;"><br />\
 n</span></span><br />\n<p><a href="#bottom"><strong><span style="font-size
 : 10.5pt\; line-height: 107%\;"></span></strong></a><span style="font-size
 : 14px\;"><strong><a href="#bottom">Click here to jump to registration lin
 ks below.</a></strong></span></p>\n<p> </p>\n<span style="font-size: 12px\
 ;" class="t-line-height-m js-contact-details-container"></span>\n<div styl
 e="text-align: center\;">\n<table style="width: 467.2pt\;" width="779" cel
 lspacing="0" cellpadding="0" border="1">\n    <tbody>\n        <tr style="
 height: 47.55pt\;">\n            <td style="width: 78.95pt\; background: #
 cccccc none repeat scroll 0% 0%\; padding: 0in\; height: 47.55pt\;"><br />
 \n            </td>\n            <td style="width: 86.6pt\; background: #c
 ccccc none repeat scroll 0% 0%\; padding: 0in\; height: 47.55pt\;">\n     
        <p style="text-align: center\;"><strong><span style="font-size: 9pt
 \; font-family: arial\, sans-serif\;">Registration<br />\n            </sp
 an></strong></p>\n            </td>\n        </tr>\n        <tr style="hei
 ght: 32.35pt\;">\n            <td style="width: 78.95pt\; padding: 0in\; h
 eight: 32.35pt\;">\n            <p style="text-align: center\;"><strong><s
 pan style="font-size: 9pt\; font-family: arial\, sans-serif\;">Member</spa
 n></strong></p>\n            </td>\n            <td style="width: 86.6pt\;
  background: white none repeat scroll 0% 0%\; padding: 0in\; height: 32.35
 pt\;">\n            <p style="text-align: center\;">Free for UPCEA members
  that renew for 2021-22 by June 30\, 2021</p>\n            </td>\n        
 </tr>\n        <tr style="height: 30.15pt\;">\n            <td style="widt
 h: 78.95pt\; padding: 0in\; height: 30.15pt\;">\n            <p style="tex
 t-align: center\;"><strong><span style="font-size: 9pt\; font-family: aria
 l\, sans-serif\;">Non-Member Institutions and Exhibitors<br />\n          
   </span></strong></p>\n            </td>\n            <td style="width: 8
 6.6pt\; padding: 0in\; height: 30.15pt\;">\n            <p style="text-ali
 gn: center\;"><span style="font-size: 9pt\; font-family: arial\, sans-seri
 f\;">$545</span></p>\n            </td>\n        </tr>\n        <tr style=
 "height: 33.05pt\;">\n            <td style="width: 78.95pt\; padding: 0in
 \; height: 33.05pt\;">\n            <p style="text-align: center\;"><stron
 g><span style="font-size: 9pt\; font-family: arial\, sans-serif\;">Corpora
 te Non-Member\, not exhibiting</span></strong></p>\n            </td>\n   
          <td style="width: 86.6pt\; padding: 0in\; height: 33.05pt\;">\n  
           <p style="text-align: center\;"><span style="font-size: 9pt\; fo
 nt-family: arial\, sans-serif\;">$700</span></p>\n            </td>\n     
    </tr>\n    </tbody>\n</table>\n</div>\n<p> </p>\n<p><span style="font-f
 amily: arial\; font-size: 13px\;"><strong><span style="font-size: 13px\;">
 <em><span style="text-decoration: underline\;">To register other people fr
 om the same institution</span>\, log in and click on "Manage Group Registr
 ation" below.<strong><em> (Members Only) <br />\n</em></strong></em></span
 ></strong> </span></p>\n<span style="font-family: arial\; font-size: 13px\
 ;"></span><span style="font-family: arial\; font-size: 13px\;">\n</span>\n
 <p><span style="font-family: arial\; font-size: 13px\;"></span></p>\n<p><s
 pan style="font-family: arial\; font-size: 13px\;"><strong>Registration cl
 oses on Oct. 13\, 2021.&nbsp\; </strong>No registrations will be accepted 
 after Oct. 13\, 2021.</span></p>\n<p><span style="font-family: arial\; fon
 t-size: 13px\;">Your registration will not be complete until you have both
  completed the registration form and paid.&nbsp\;<strong>To attend the UPC
 EA 2021 Regions Week and take advantage of the free member registration ra
 te\, you must fill out the online registration form and make sure your org
 anizational membership is renewed by June 30\, 2021 for the July 1\, 2021 
 - June 30\, 2022 membership year. </strong></span></p>\n<p><span style="fo
 nt-size: 13px\;"> </span></p>\n<span style="font-family: arial\; font-size
 : 13px\;">\n</span>\n<p dir="ltr" style="line-height: 1.2\; margin-top: 0p
 t\; margin-bottom: 0pt\;" id="docs-internal-guid-0c3e709a-7fff-7d38-5d16-0
 4cc8f2f1689"><span style="font-family: arial\; font-size: 13px\;"> <strong
 >Event Description</strong><br />\n<span style="font-size: 11pt\; backgrou
 nd-color: transparent\; font-weight: 400\; font-style: normal\; font-varia
 nt: normal\; text-decoration: none\; vertical-align: baseline\; white-spac
 e: pre-wrap\; color: #000000\;">We invite you to join us for Regions Week 
 2021! All five of UPCEA&rsquo\;s regions (Central\, Mid-Atlantic\, New Eng
 land\, South\, and West) are coming together for an exciting new virtual e
 vent format on October 18-21\, 2021. Regions Week is the best of both worl
 ds &ndash\; attendees have the opportunity to connect and learn from colle
 agues from across all 5 regions\, while also enjoying dedicated time with 
 regional peers to celebrate award recipients and discuss region-specific c
 hallenges. As with the 2020 regional conferences\, Regions Week 2021 is co
 mpletely free of charge for UPCEA members!&nbsp\; </span><span style="font
 -size: 11pt\; background-color: transparent\; font-weight: 400\; font-styl
 e: italic\; font-variant: normal\; text-decoration: none\; vertical-align:
  baseline\; white-space: pre-wrap\; color: #000000\;">&nbsp\;</span></span
 ></p>\n<div><span style="font-family: arial\; font-size: 13px\;"><br />\n<
 /span></div>\n<p><span style="font-family: arial\; font-size: 13px\;"><str
 ong></strong></span></p>\n<p><strong><span style="font-size: 10pt\; font-f
 amily: arial\, sans-serif\;">Conference Privacy Policy</span></strong><spa
 n style="font-family: arial\; font-size: 13px\;"><br />\nAttendees of the 
 UPCEA 2021 Regions Week virtual conference grant UPCEA a non-exclusive wor
 ldwide right to reproduce\, distribute\, any part or all of the webinar pr
 esentation\, including any written or audio/visual material submitted in c
 onnection with the presentation\, in whole or in part\, in any media\, inc
 luding any audio or video recording of the presentation. You hereby consen
 t to UPCEA&rsquo\;s use of any name\, photograph\, image\, presentation\, 
 or portions quoted or derived from the presentations. You also understand 
 that the event in its entirety and/or portions thereof may be published vi
 a podcasts\, webinars\, and other printed or electronic media and by regis
 tering and agreeing to terms and conditions\, you are consenting to all su
 ch derivative uses. If you have any questions about this use\, please emai
 l <a href="mailto:info@upcea.edu">info@upcea.edu</a>. <span style="font-si
 ze: 13px\;"><br />\n</span></span></p>\n<span style="font-family: arial\; 
 font-size: 13px\;">\n</span>\n<p><span style="font-family: arial\; font-si
 ze: 13px\;"><strong>Affiliated Events Policy<em></em></strong></span><span
  style="font-family: arial\; font-size: 13px\;"><br />\nCorporate member a
 nd nonmember attendees are prohibited from holding any meetings (briefings
 \, seminars\, etc.) targeting professional\, continuing\, and online leade
 rs in higher education who they know will be attending the UPCEA event\, a
 nd utilizing our name and likeness to do so\, unless otherwise negotiated 
 and scheduled with and by UPCEA. </span></p>\n<p> </p>\n<span style="font-
 family: arial\; font-size: 13px\;"> </span>\n<p><span style="font-family: 
 arial\; font-size: 13px\;">UPCEA reserves the right to prohibit corporate 
 member and nonmember attendees&nbsp\;who violate this policy from exhibiti
 ng or participating at UPCEA events.</span></p>\n<p><span style="font-fami
 ly: arial\; font-size: 13px\;"></span></p>\n<span style="font-family: aria
 l\; font-size: 13px\;">\n</span><span style="font-family: arial\; font-siz
 e: 13px\;">\n</span>\n<p><span style="font-family: arial\; font-size: 13px
 \;"><strong><em><span style="font-size: 13px\;">If you encounter any error
 s or&nbsp\;need assistance with your registration\, please contact us at 2
 02-659-3130 or&nbsp\;</span></em></strong><span style="font-size: 13px\;">
 <a href="mailto:jfedak@upcea.edu"><em>jromero@upcea.edu</em></a><strong><e
 m>.</em></strong></span></span></p>\n<span style="font-family: arial\; fon
 t-size: 13px\;">\n</span>\n<p><span style="font-size: 10pt\; font-family: 
 arial\, sans-serif\;"><strong><em><br />\n</em></strong></span></p>\n<a id
 ="bottom"></a>
END:VEVENT
END:VCALENDAR
