BEGIN:VCALENDAR
VERSION:2.0
PRODID:-//ddaysoftware.com//NONSGML DDay.iCal 1.0//EN
BEGIN:VEVENT
DTEND:20260807T040000Z
DTSTAMP:20260424T224204Z
DTSTART:20260706T040000Z
SEQUENCE:0
SUMMARY:Understanding the Adult Learner and Other PCO Constituencies in Pro
 fessional\, Continuing\, and Online Education - July 2026
UID:76ecf043-8453-465f-adb4-ea9892e4d687
X-ALT-DESC;FMTTYPE=text/html:<p><span style="text-decoration: underline\;">
 Course Title</span>:&nbsp\;&nbsp\;Understanding the Adult Learner and Othe
 r PCO Constituencies in Professional\, Continuing\, and Online Education&n
 bsp\;</p>\n<p><span style="text-decoration: underline\;">Course Descriptio
 n</span>:&nbsp\;<span style="font-family: &quot\;trebuchet ms&quot\;\, &qu
 ot\;helvetica neue&quot\;\, helvetica\, tahoma\, sans-serif\; font-size: 1
 3px\; color: #666666\;">Who are the constituents and stakeholders that com
 pose the ecosystem of Professional\, Continuing\, and Online Education? Wh
 at are the unique characteristics and educational needs of adult learners?
 &nbsp\; How do the characteristics of the student market determine how pro
 grams are designed and delivered?</span></p>\n<p style="box-sizing: inheri
 t\; margin-bottom: 16px\; font-size: 13px\; line-height: 1.6\; color: #666
 666\; font-family: &quot\;trebuchet ms&quot\;\, &quot\;helvetica neue&quot
 \;\, helvetica\, tahoma\, sans-serif\;">This course examines prospective s
 tudent markets and how to address their educational needs.&nbsp\; This cou
 rse also examines the roles of employers\, communities\, and government ag
 encies in creating educational opportunities.&nbsp\;</p>\n<p>This course i
 s a part of the PCO Professional Certificate&nbsp\;</p>\n<p><span size="2"
  style="font-size: small\;">Check out&nbsp\;</span><a href="https://elevat
 e.upcea.edu/" style="font-size: small\;"><span style="font-size: 13px\;">o
 ther UPCEA Professional Development offerings</span></a><span size="2" sty
 le="font-size: small\;">.</span></p>\n<p><span style="font-size: 13px\;"><
 a href="https://elevate.upcea.edu/faqs">Review our participant FAQ</a></sp
 an></p>\n<p><span size="2" style="font-size: small\;">Read the&nbsp\;</spa
 n><a href="https://core.upcea.edu/codeofconduct" style="font-size: small\;
 "><span style="font-size: 13px\;">Code of Conduct</span></a><span size="2"
  style="font-size: small\;">&nbsp\;and our&nbsp\;</span><span size="2" sty
 le="font-size: small\;"><a href="https://upcea.edu/about/privacy-policy/" 
 style="font-size: small\;">Privacy Policy</a></span></p>\n<p><span size="2
 " style="font-size: small\;">Cancellation Policy:&nbsp\;</span><span size=
 "2" style="font-size: small\;">Registrants who request cancellation by 5:0
 0 pm EST on the Friday after the course begins will have the option to tra
 nsfer that registration one time to a colleague at their institution or to
  any other Online PD course offered within six months of cancellation. If 
 no suitable offerings are available within six months at the time of cance
 llation\, registrants can request a refund of their registration fee minus
  a $50.00 administrative fee. No transfers or refunds will be available af
 ter the first week of the course. Cancellation requests must be made in wr
 iting and sent to&nbsp\;</span><span size="2" style="font-size: small\; ba
 ckground-color: transparent\; font-variant-numeric: normal\; font-variant-
 east-asian: normal\; text-decoration-line: underline\; text-decoration-ski
 p-ink: none\; vertical-align: baseline\; white-space: pre-wrap\; color: #1
 155cc\;"><a href="mailto:pd@upcea.edu">pd@upcea.edu</a></span></p>\n<p><sp
 an size="2" style="font-size: small\;">Please direct all additional questi
 ons to&nbsp\;</span><a href="mailto:pd@upcea.edu" style="font-size: small\
 ;"><span style="font-size: 13px\;">pd@upcea.edu</span></a><span size="2" s
 tyle="font-size: small\;">.</span></p>\n<p><span style="font-size: 13px\;"
 ><strong>If you have not started the registration process\, go down and cl
 ick "Register for this Event" below.&nbsp\;</strong></span></p>\n<p><span 
 style="font-style: italic\; text-decoration-line: underline\; font-size: 1
 3px\; color: #ff0000\;">You MUST click "Allow Cookies" in the bottom left 
 corner to access any links or areas of the member portal.</span></p>\n<p><
 br />\n</p>
END:VEVENT
END:VCALENDAR
