BEGIN:VCALENDAR
VERSION:2.0
PRODID:-//ddaysoftware.com//NONSGML DDay.iCal 1.0//EN
BEGIN:VEVENT
DTEND:20250319T170000Z
DTSTAMP:20260422T195507Z
DTSTART:20250319T160000Z
SEQUENCE:0
SUMMARY:ECG Webinar Series: From Fundamentals to Advanced Interpretation | 
 Live Webinar #3: Arrhythmias Part II
UID:cb6c01ba-9299-4c3e-b128-f4f68c109f2f
X-ALT-DESC;FMTTYPE=text/html:<p>Presented by Franklin Zimmerman\, MD\, FAAC
 VPR</p>\n<p><strong>Topics Covered in this Webinar</strong>: Ventricular a
 rrhythmias\, The basics of aberrancy and wide complex tachycardia\, and Pa
 cemaker/Device electrocardiography.</p>\n<p><strong>Webinar Description:</
 strong>&nbsp\;<span style="color: #000000\;">This webinar will focus on ve
 ntricular arrhythmias and discuss basic concepts of aberrancy and wide com
 plex tachycardia. It will conclude with a discussion of pacemaker electroc
 ardiography.&nbsp\;</span></p>\n<p><strong>Webinar Learning Objectives:</s
 trong><br />\nAt the completion of this course\, webinar will be able to:<
 br />\n1.<span style="white-space: pre\;">	</span>Recognize&nbsp\;VPCs\, v
 entricular tachyarrhythmias such as ventricular tachycardia\, ventricular 
 fibrillation and torsades de pointes.<br />\n2.<span style="white-space: p
 re\;">	</span>Discuss&nbsp\;a basic approach to aberrancy and wide complex
  tachycardia.<br />\n3.<span style="white-space: pre\;">	</span>Discuss a&
 nbsp\;normal and abnormal pacemaker function.</p>\n<p><br />\n</p>\n<stron
 g>How to view live webinar</strong>:<br />\n<br />\nProceed through this r
 egistration process.&nbsp\;<br />\nReceive confirmation email and AACVPR L
 ive Education activation link via email.<br />\nClick the activation link 
 to activate and view the webinar in the Learning Center.<br />\n<p>When it
  is time to join the webinar\, proceed to your dashboard in the Learning C
 enter to join the Zoom webinar.&nbsp\;\n</p>\n<strong>How to access CE Cre
 dit:&nbsp\;</strong>Please complete the evaluation at the conclusion of th
 e webinar to obtain your certificate. The webinar evaluation is available 
 in the Learning Center. The evaluation must be completed to download and o
 btain your certificate.&nbsp\;<br />\n<br />\n<strong>Credits offered:</st
 rong><br />\n<br />\n<strong>\nAACVPR CE:</strong> This course has been ap
 proved by the AACVPR Professional Education Committee for a total of 1.0 A
 ACVPR Continuing Education Credits.&nbsp\;<br />\n<strong><br />\nNurse CE
 </strong>:&nbsp\; This course has been approved by&nbsp\;Creighton Univers
 ity Health Sciences Continuing Education activity for 1.0 contact hour for
  nurses.<br />\n<br />\n<strong>Financial Disclosure</strong>:<br />\n<br 
 />\nAll individuals who have the ability to control or influence the conte
 nt of an educational activity have disclosed all relevant relationships wi
 thin the past 12 months with any commercial interest. Relevant relationshi
 ps are relationships with a commercial interest if the products and servic
 es of the commercial interest are related to the content of the educationa
 l activity.<br />\n<br />\nEducation Committee Chair:&nbsp\; Rachel Jarvis
 \, MA\, ACSM-RCEP\, CES - Nothing to disclose.<br />\n<br />\nSpeaker(s):&
 nbsp\; <span style="white-space-collapse: preserve-breaks\;">Franklin Zimm
 erman\, MD\, FAACVPR - Nothing to disclose.</span><br />\n<br />\n<br />\n
 <br />\n<p><br />\n</p>
END:VEVENT
END:VCALENDAR
